BEGIN:VCALENDAR
VERSION:2.0
PRODID:-//Mechanobiology Institute, National University of Singapore - ECPv6.15.12.2//NONSGML v1.0//EN
CALSCALE:GREGORIAN
METHOD:PUBLISH
X-ORIGINAL-URL:https://www.mbi.nus.edu.sg
X-WR-CALDESC:Events for Mechanobiology Institute, National University of Singapore
REFRESH-INTERVAL;VALUE=DURATION:PT1H
X-Robots-Tag:noindex
X-PUBLISHED-TTL:PT1H
BEGIN:VTIMEZONE
TZID:Asia/Singapore
BEGIN:STANDARD
TZOFFSETFROM:+0800
TZOFFSETTO:+0800
TZNAME:+08
DTSTART:20250101T000000
END:STANDARD
END:VTIMEZONE
BEGIN:VEVENT
DTSTART;TZID=Asia/Singapore:20260312T100000
DTEND;TZID=Asia/Singapore:20260312T120000
DTSTAMP:20260421T215120
CREATED:20260309T025731Z
LAST-MODIFIED:20260309T025813Z
UID:44467-1773309600-1773316800@www.mbi.nus.edu.sg
SUMMARY:MBI PhD Qualifying Exam - Kottpalli VIDHIPRIYA
DESCRIPTION:MBI PhD Qualifying Exam \nDate:          12 March 2026 (Thursday) \nTime:          10.00am \nVenue:        T-Lab Level 5 Seminar Room \n  \nTitle: ELUCIDATING THE AGE AND STIFFNESS REGULATION OF THE TISSUE RESIDENT MACROPHAGE POLARIZATION  \nBy: Kottpalli VIDHIPRIYA\, Young Group
URL:https://www.mbi.nus.edu.sg/event/mbi-phd-qualifying-exam-kottpalli-vidhipriya/
LOCATION:MBI Seminar Room Lvl 5\, T-Lab\, Level 5\, 5A Engineering Drive 1\, Mechanobiology Institute\, National University of Singapore\, 117411\, Singapore
CATEGORIES:MBI PhD Qualifying Exam
END:VEVENT
BEGIN:VEVENT
DTSTART;TZID=Asia/Singapore:20260317T150000
DTEND;TZID=Asia/Singapore:20260317T170000
DTSTAMP:20260421T215120
CREATED:20260312T235456Z
LAST-MODIFIED:20260312T235456Z
UID:44471-1773759600-1773766800@www.mbi.nus.edu.sg
SUMMARY:MBI PhD Qualifying Exam - Mariana Barrera VELAZQUEZ
DESCRIPTION:MBI PhD Qualifying Exam \nDate:          17 March 2026 (Tuesday) \nTime:          3.00pm \nVenue:        T-Lab Level 5 Seminar Room \n  \nTitle: MECHANICAL INFLUENCE OF TRANSIENT TISSUE FOLDS DURING THE DROSOPHILA WING DISC DEVELOPMENT \nBy: Mariana Barrera VELAZQUEZ\, Dye Group
URL:https://www.mbi.nus.edu.sg/event/mbi-phd-qualifying-exam-mariana-barrera-velazquez/
LOCATION:MBI Seminar Room Lvl 5\, T-Lab\, Level 5\, 5A Engineering Drive 1\, Mechanobiology Institute\, National University of Singapore\, 117411\, Singapore
CATEGORIES:MBI PhD Qualifying Exam
END:VEVENT
BEGIN:VEVENT
DTSTART;TZID=Asia/Singapore:20260324T153000
DTEND;TZID=Asia/Singapore:20260324T173000
DTSTAMP:20260421T215120
CREATED:20260320T014119Z
LAST-MODIFIED:20260320T014119Z
UID:44514-1774366200-1774373400@www.mbi.nus.edu.sg
SUMMARY:MBI PhD Qualifying Exam - LE Thuy Truc Anh
DESCRIPTION:MBI PhD Qualifying Exam \nDate:          24 March 2026 (Tuesday) \nTime:          3.30pm \nVenue:        T-Lab Level 5 Seminar Room \n  \nTitle: INVESTIGATING MICROGLIAL CLEARANCE OF APOPTOTIC NEURONS \nBy: Le Thuy Truc Anh\, Toyama Group
URL:https://www.mbi.nus.edu.sg/event/mbi-phd-qualifying-exam-le-thuy-truc-anh/
LOCATION:MBI Seminar Room Lvl 5\, T-Lab\, Level 5\, 5A Engineering Drive 1\, Mechanobiology Institute\, National University of Singapore\, 117411\, Singapore
CATEGORIES:MBI PhD Qualifying Exam
END:VEVENT
BEGIN:VEVENT
DTSTART;TZID=Asia/Singapore:20260326T120000
DTEND;TZID=Asia/Singapore:20260326T140000
DTSTAMP:20260421T215120
CREATED:20260212T235238Z
LAST-MODIFIED:20260212T235238Z
UID:44449-1774526400-1774533600@www.mbi.nus.edu.sg
SUMMARY:MBI PhD Oral Examination - KWANG Leng Gek
DESCRIPTION:MBI PhD Oral Examination \nDate:                 26 March 2026 (Monday) \nTime:                12pm \nVenue:              T-Lab Level 5 Seminar Room \n  \nTitle:                INVESTIGATE BEHAVIOUR OF ADIPOSE TISSUE AT FAT-MUSCLE INTERFACE FOR DEVELOPMENT OF FAT MIMETIC IN PLANT-BASED WHOLE CUT MEAT ANALOG \nBy:                    KWANG Leng Gek\, Yu Group \n  \nFind Help \nPlease contact Kasie at aukasie@nus.edu.sg if you require more information.
URL:https://www.mbi.nus.edu.sg/event/mbi-phd-oral-examination-kwang-leng-gek/
LOCATION:MBI Seminar Room Lvl 5\, T-Lab\, Level 5\, 5A Engineering Drive 1\, Mechanobiology Institute\, National University of Singapore\, 117411\, Singapore
CATEGORIES:PhD Oral Defense
END:VEVENT
BEGIN:VEVENT
DTSTART;TZID=Asia/Singapore:20260331T100000
DTEND;TZID=Asia/Singapore:20260331T120000
DTSTAMP:20260421T215120
CREATED:20260305T072730Z
LAST-MODIFIED:20260305T072730Z
UID:44465-1774951200-1774958400@www.mbi.nus.edu.sg
SUMMARY:MBI PhD Qualifying Exam - Shelly Anne GNAPRAGASAN
DESCRIPTION:MBI PhD Qualifying Exam \nDate:          31 March 2026 (Tuesday) \nTime:          10.00am \nVenue:        T-Lab Level 5 Seminar Room \n  \nTitle: EFFECT OF ACTB MUTATION ON ACTIN CYTOSKELETAL STRUCTURE AND DYNAMICS \nBy: Shelly Anne GNAPRAGASAN\, Michelot Group
URL:https://www.mbi.nus.edu.sg/event/mbi-phd-qualifying-exam-shelly-anne-gnapragasan/
LOCATION:MBI Seminar Room Lvl 5\, T-Lab\, Level 5\, 5A Engineering Drive 1\, Mechanobiology Institute\, National University of Singapore\, 117411\, Singapore
CATEGORIES:MBI PhD Qualifying Exam
END:VEVENT
END:VCALENDAR