BEGIN:VCALENDAR
VERSION:2.0
PRODID:-//Mechanobiology Institute, National University of Singapore - ECPv6.15.12.2//NONSGML v1.0//EN
CALSCALE:GREGORIAN
METHOD:PUBLISH
X-ORIGINAL-URL:https://www.mbi.nus.edu.sg
X-WR-CALDESC:Events for Mechanobiology Institute, National University of Singapore
REFRESH-INTERVAL;VALUE=DURATION:PT1H
X-Robots-Tag:noindex
X-PUBLISHED-TTL:PT1H
BEGIN:VTIMEZONE
TZID:Asia/Singapore
BEGIN:STANDARD
TZOFFSETFROM:+0800
TZOFFSETTO:+0800
TZNAME:+08
DTSTART:20240101T000000
END:STANDARD
END:VTIMEZONE
BEGIN:VEVENT
DTSTART;TZID=Asia/Singapore:20251205T100000
DTEND;TZID=Asia/Singapore:20251205T120000
DTSTAMP:20260420T080255
CREATED:20251120T003401Z
LAST-MODIFIED:20251120T003401Z
UID:44001-1764928800-1764936000@www.mbi.nus.edu.sg
SUMMARY:MBI PhD Oral Examination - LI Yixuan
DESCRIPTION:MBI PhD Oral Examination \nDate:                 16 December 2025 (Tuesday) \nTime:                2pm \nVenue:              T-Lab Level 5 Seminar Room \n  \nTitle:                 Nuclear Deformation and Mechanotransduction During Cellular Confinement \nBy:                     Li Yixuan\, Holle Group \n  \nFind Help \nPlease contact Kasie at aukasie@nus.edu.sg if you require more information.
URL:https://www.mbi.nus.edu.sg/event/mbi-phd-oral-examination-li-yixuan/
LOCATION:MBI Seminar Room Lvl 5\, T-Lab\, Level 5\, 5A Engineering Drive 1\, Mechanobiology Institute\, National University of Singapore\, 117411\, Singapore
CATEGORIES:PhD Oral Defense
END:VEVENT
BEGIN:VEVENT
DTSTART;TZID=Asia/Singapore:20251216T140000
DTEND;TZID=Asia/Singapore:20251216T160000
DTSTAMP:20260420T080255
CREATED:20251117T234411Z
LAST-MODIFIED:20251117T234411Z
UID:43982-1765893600-1765900800@www.mbi.nus.edu.sg
SUMMARY:MBI PhD Oral Examination - NG Boon Heng
DESCRIPTION:MBI PhD Oral Examination \nDate:                 16 December 2025 (Tuesday) \nTime:                2pm \nVenue:              T-Lab Level 5 Seminar Room \n  \nTitle:                 Investigating the Roles of Theca Cell Mechanosensing and ECM Crosstalk During Mammalian Follicle Development \nBy:                     NG Boon Heng\, Chan Group \n  \nFind Help \nPlease contact Kasie at aukasie@nus.edu.sg if you require more information.
URL:https://www.mbi.nus.edu.sg/event/mbi-phd-oral-examination-ng-boon-heng/
LOCATION:MBI Seminar Room Lvl 5\, T-Lab\, Level 5\, 5A Engineering Drive 1\, Mechanobiology Institute\, National University of Singapore\, 117411\, Singapore
CATEGORIES:PhD Oral Defense
END:VEVENT
END:VCALENDAR