BEGIN:VCALENDAR
VERSION:2.0
PRODID:-//Mechanobiology Institute, National University of Singapore - ECPv6.15.12.2//NONSGML v1.0//EN
CALSCALE:GREGORIAN
METHOD:PUBLISH
X-ORIGINAL-URL:https://www.mbi.nus.edu.sg
X-WR-CALDESC:Events for Mechanobiology Institute, National University of Singapore
REFRESH-INTERVAL;VALUE=DURATION:PT1H
X-Robots-Tag:noindex
X-PUBLISHED-TTL:PT1H
BEGIN:VTIMEZONE
TZID:Asia/Singapore
BEGIN:STANDARD
TZOFFSETFROM:+0800
TZOFFSETTO:+0800
TZNAME:+08
DTSTART:20230101T000000
END:STANDARD
END:VTIMEZONE
BEGIN:VEVENT
DTSTART;TZID=Asia/Singapore:20240913T100000
DTEND;TZID=Asia/Singapore:20240913T110000
DTSTAMP:20260420T031344
CREATED:20240828T033614Z
LAST-MODIFIED:20240828T033614Z
UID:41187-1726221600-1726225200@www.mbi.nus.edu.sg
SUMMARY:MBI Weekly Seminar
DESCRIPTION:MBI Weekly Seminar\nDate: 13 Sep 2024\, Friday\nTime: 10am\nVenue: Zoom \nTalk Title Tbc\nBy Kate Cavanaugh\, University of California San Francisco\, USA (Host: Chan Chii Jou) \nFind Help\nNon MBI staff who are interested in attending should contact Qiao Jing at mbilqj@nus.edu.sg for seminar details.
URL:https://www.mbi.nus.edu.sg/event/mbi-weekly-seminar-70/
LOCATION:ZOOM webcast
CATEGORIES:MBI Weekly Seminar
END:VEVENT
BEGIN:VEVENT
DTSTART;TZID=Asia/Singapore:20240920T100000
DTEND;TZID=Asia/Singapore:20240920T110000
DTSTAMP:20260420T031344
CREATED:20240828T034040Z
LAST-MODIFIED:20240909T040825Z
UID:41189-1726826400-1726830000@www.mbi.nus.edu.sg
SUMMARY:MBI Weekly Seminar
DESCRIPTION:MBI Weekly Seminar\nDate: 20 Sep 2024\, Friday\nTime: 10am\nVenue: Level 5 Seminar Room \nAccess the full richness of biological complexity with single cell and spatial multiomics\nBy Benson Lim\, Science & Technology Advisor\, 10x Genomics\, Singapore (Host: Lan Xi) \nHarnessing single-cell technology to understand the tumor microenvironment and immunotherapy responses in virus-associated cancers\nBy Timothy Wai Ho Shuen\, NCCS\, Singapore (Host: Lan Xi) \nFind Help\nNon MBI staff who are interested in attending should contact Qiao Jing at mbilqj@nus.edu.sg for seminar details.
URL:https://www.mbi.nus.edu.sg/event/mbi-weekly-seminar-74/
LOCATION:MBI Seminar Room Lvl 5\, T-Lab\, Level 5\, 5A Engineering Drive 1\, Mechanobiology Institute\, National University of Singapore\, 117411\, Singapore
CATEGORIES:MBI Weekly Seminar
END:VEVENT
BEGIN:VEVENT
DTSTART;TZID=Asia/Singapore:20240924T150000
DTEND;TZID=Asia/Singapore:20240924T170000
DTSTAMP:20260420T031344
CREATED:20240916T010024Z
LAST-MODIFIED:20240916T010024Z
UID:41361-1727190000-1727197200@www.mbi.nus.edu.sg
SUMMARY:MBI PhD Qualifying Exam - Ankita Nitin NAYAK
DESCRIPTION:MBI PhD Qualifying Exam \nDate:          24 September 2024 (Tuesday) \nTime:          3.00pm \nVenue:        T-Lab Level 5 Seminar Room \n  \nTitle: INVESTIGATING THE IMPACT OF TOPOGRAPHIC CUES ON MECHANICAL CELL COMPETITION \n  \nBy: Ankita Nitin NAYAK\, Hirashima Group
URL:https://www.mbi.nus.edu.sg/event/mbi-phd-qualifying-exam-ankita-nitin-nayak/
LOCATION:MBI Seminar Room Lvl 5\, T-Lab\, Level 5\, 5A Engineering Drive 1\, Mechanobiology Institute\, National University of Singapore\, 117411\, Singapore
CATEGORIES:MBI PhD Qualifying Exam
END:VEVENT
BEGIN:VEVENT
DTSTART;TZID=Asia/Singapore:20240925T150000
DTEND;TZID=Asia/Singapore:20240925T160000
DTSTAMP:20260420T031344
CREATED:20240220T080059Z
LAST-MODIFIED:20240909T035531Z
UID:39914-1727276400-1727280000@www.mbi.nus.edu.sg
SUMMARY:SPSS
DESCRIPTION:MBI Student and Postdoc Seminar Series (SPSS)\nDate: 25 Sep 2024\, Wednesday\nTime: 3pm\nVenue: T-lab Level 5 Seminar Room \nSynergizing AI tools and single molecule manipulation technique for mechano transduction protein research\nBy Sun Yuze\, PhD Student\, Yan Jie Group \nPlease note this event is open to MBI researchers and invited guests only.
URL:https://www.mbi.nus.edu.sg/event/spss-94/
LOCATION:MBI Seminar Room Lvl 5\, T-Lab\, Level 5\, 5A Engineering Drive 1\, Mechanobiology Institute\, National University of Singapore\, 117411\, Singapore
CATEGORIES:MBI Student & Postdoc Seminar
END:VEVENT
BEGIN:VEVENT
DTSTART;TZID=Asia/Singapore:20240930T150000
DTEND;TZID=Asia/Singapore:20240930T160000
DTSTAMP:20260420T031344
CREATED:20240904T072106Z
LAST-MODIFIED:20240904T072106Z
UID:41269-1727708400-1727712000@www.mbi.nus.edu.sg
SUMMARY:MBI Seminar
DESCRIPTION:MBI Seminar\nDate: 30 September 2024\, Monday\nTime: 3 PM\nVenue: L5 Seminar Room \nCell size determines proteome composition in mammalian\, yeast\, and bacterial cells\nBy: Michael Lanz\, Collaborative Postdoctoral Fellow\, Chan Zuckerberg Biohub Mass Spectrometry Platform & Stanord University Department of Biology\, Stanford\, California\, USA (Host: Tsuyoshi Hirashima) \nFind Help\nNon-MBI staff who are interested in attending should contact Lois at loisyaw@nus.edu.sg.
URL:https://www.mbi.nus.edu.sg/event/mbi-seminar-55/
LOCATION:MBI Seminar Room Lvl 5\, T-Lab\, Level 5\, 5A Engineering Drive 1\, Mechanobiology Institute\, National University of Singapore\, 117411\, Singapore
CATEGORIES:MBI Seminar
END:VEVENT
END:VCALENDAR