BEGIN:VCALENDAR
VERSION:2.0
PRODID:-//Mechanobiology Institute, National University of Singapore - ECPv6.15.12.2//NONSGML v1.0//EN
CALSCALE:GREGORIAN
METHOD:PUBLISH
X-WR-CALNAME:Mechanobiology Institute, National University of Singapore
X-ORIGINAL-URL:https://www.mbi.nus.edu.sg
X-WR-CALDESC:Events for Mechanobiology Institute, National University of Singapore
REFRESH-INTERVAL;VALUE=DURATION:PT1H
X-Robots-Tag:noindex
X-PUBLISHED-TTL:PT1H
BEGIN:VTIMEZONE
TZID:Asia/Singapore
BEGIN:STANDARD
TZOFFSETFROM:+0800
TZOFFSETTO:+0800
TZNAME:+08
DTSTART:20180101T000000
END:STANDARD
END:VTIMEZONE
BEGIN:VEVENT
DTSTART;TZID=Asia/Singapore:20190903T100000
DTEND;TZID=Asia/Singapore:20190903T110000
DTSTAMP:20260421T190639
CREATED:20190829T012408Z
LAST-MODIFIED:20190829T012408Z
UID:27222-1567504800-1567508400@www.mbi.nus.edu.sg
SUMMARY:MBI SPSS: Deciphering the contribution of cadherin trans ligation during formation of adherens junction by Aditya Arora
DESCRIPTION:MBI Student and Postdoc Seminar Series (SPSS)\nTime: 10.00am – 11.00am\nDate: Tuesday\, 3 September 2019\nVenue: Level 5 Seminar Room\, T-Lab \nDeciphering the contribution of cadherin trans ligation during formation of adherens junction\nBy Aditya Arora\, Research Fellow\, Viasnoff Group \n  \n*Please note this event is open to MBI researchers and invited guests only. Thank you *
URL:https://www.mbi.nus.edu.sg/event/mbi-spss-deciphering-the-contribution-of-cadherin-trans-ligation-during-formation-of-adherens-junction-by-aditya-arora/
LOCATION:MBI Seminar Room Lvl 5\, T-Lab\, Level 5\, 5A Engineering Drive 1\, Mechanobiology Institute\, National University of Singapore\, 117411\, Singapore
CATEGORIES:MBI Student & Postdoc Seminar
END:VEVENT
BEGIN:VEVENT
DTSTART;TZID=Asia/Singapore:20190913T100000
DTEND;TZID=Asia/Singapore:20190913T110000
DTSTAMP:20260421T190639
CREATED:20190912T014429Z
LAST-MODIFIED:20190912T014429Z
UID:27300-1568368800-1568372400@www.mbi.nus.edu.sg
SUMMARY:MBIw: Kinesin-Myosin Tag of Wars Define Posterior Polarity in Drosophila Oocyte by Prof. Vladimir I Gelfand
DESCRIPTION:MBI Weekly Meeting Seminar\nTime: 10.00am -11.00am\nDate: Friday\, 13 September 2019\nVenue: Level 5 Seminar Room\, T-Lab \nKinesin-Myosin Tag of Wars Define Posterior Polarity in Drosophila Oocyte\nBy Prof. Vladimir I Gelfand\, Feinberg School of Medicine\, Northwestern University
URL:https://www.mbi.nus.edu.sg/event/mbiw-kinesin-myosin-tag-of-wars-define-posterior-polarity-in-drosophila-oocyte-by-prof-vladimir-i-gelfand/
LOCATION:MBI Seminar Room Lvl 5\, T-Lab\, Level 5\, 5A Engineering Drive 1\, Mechanobiology Institute\, National University of Singapore\, 117411\, Singapore
CATEGORIES:MBI Weekly Seminar
END:VEVENT
BEGIN:VEVENT
DTSTART;TZID=Asia/Singapore:20190916T163000
DTEND;TZID=Asia/Singapore:20190916T173000
DTSTAMP:20260421T190639
CREATED:20190912T013240Z
LAST-MODIFIED:20190912T013240Z
UID:27293-1568651400-1568655000@www.mbi.nus.edu.sg
SUMMARY:The epithelial microenvironment: can its mechanics affect cancer risk? by Alpha Yap
DESCRIPTION:We are pleased to inform you on the seminar of Alpha Yap (hosted by Prof Yusuke Toyama)\, “The epithelial microenvironment: can its mechanics affect cancer risk? ” on 16 Sep @ 4.30pm\, at T-Lab Level 5 Seminar Rooms.
URL:https://www.mbi.nus.edu.sg/event/the-epithelial-microenvironment-can-its-mechanics-affect-cancer-risk-by-alpha-yap/
LOCATION:MBI Seminar Room Lvl 5\, T-Lab\, Level 5\, 5A Engineering Drive 1\, Mechanobiology Institute\, National University of Singapore\, 117411\, Singapore
CATEGORIES:MBI Seminar
END:VEVENT
BEGIN:VEVENT
DTSTART;TZID=Asia/Singapore:20190917T100000
DTEND;TZID=Asia/Singapore:20190917T110000
DTSTAMP:20260421T190639
CREATED:20190916T051723Z
LAST-MODIFIED:20190916T051723Z
UID:27354-1568714400-1568718000@www.mbi.nus.edu.sg
SUMMARY:MBI SPSS: How to maximise the benefits of attending conferences by Timothy Saunders
DESCRIPTION:MBI Student and Postdoc Seminar Series (SPSS)\nTime: 10.00am – 11.00am\nDate: Tuesday\, 17 September 2019\nVenue: Level 5 Seminar Room\, T-Lab \nHow to maximise the benefits of attending conferences\nBy Timothy Saunders\, Assistant Professor\, Mechanobiology Institute\, National University of Singapore \n  \nPlease note this event is open to MBI researchers and invited guests only. \nFurther\, please note that MBI supports the conservation and green movement. Please bring your own cups for coffee at MBI’s SPSS. The use of paper cups will be discontinued from October onwards.
URL:https://www.mbi.nus.edu.sg/event/mbi-spss-how-to-maximise-the-benefits-of-attending-conferences-by-timothy-saunders/
LOCATION:MBI Seminar Room Lvl 5\, T-Lab\, Level 5\, 5A Engineering Drive 1\, Mechanobiology Institute\, National University of Singapore\, 117411\, Singapore
CATEGORIES:MBI Weekly Seminar
END:VEVENT
BEGIN:VEVENT
DTSTART;VALUE=DATE:20190919
DTEND;VALUE=DATE:20190921
DTSTAMP:20260421T190639
CREATED:20190528T014832Z
LAST-MODIFIED:20190530T014350Z
UID:26561-1568851200-1569023999@www.mbi.nus.edu.sg
SUMMARY:Joint Symposium between MBI and Universal Biology Institute\, Japan
DESCRIPTION:Joint Symposium between MBI and Universal Biology Institute\, Japan\nDate:  September 19-20\, 2019\nVenue: Universal Biology Institute\, The University of Tokyo\, Japan \nOrganizers\nGV Shivashankar \nYusuke Toyama \nTetsuya Hiraiwa \n  \nDetails to be announced.
URL:https://www.mbi.nus.edu.sg/event/joint-symposium-between-mbi-and-universal-biology-institute-japan/
LOCATION:The University of Tokyo\, Japan\, 7 Chome-3-1 Hongo\, Tokyo\, Japan
CATEGORIES:Symposium
END:VEVENT
BEGIN:VEVENT
DTSTART;VALUE=DATE:20190921
DTEND;VALUE=DATE:20190924
DTSTAMP:20260421T190639
CREATED:20190528T020103Z
LAST-MODIFIED:20190528T020103Z
UID:26564-1569024000-1569283199@www.mbi.nus.edu.sg
SUMMARY:6th International Symposium on Bioimaging: Joint Session between Singapore and Japan / Women in Science Session
DESCRIPTION:6th International Symposium on Bioimaging: Joint Session between Singapore and Japan / Women in Science Session\nDate:  September 21-23\, 2019\nVenue: Teikyo University\, Itabashi Campus\, Tokyo\, Japan \nLearn more. \nOrganizers\nMBI\, CBIS\, NUS \n  \nDetails to be announced.
URL:https://www.mbi.nus.edu.sg/event/6th-international-symposium-on-bioimaging-joint-session-between-singapore-and-japan-women-in-science-session/
LOCATION:Teikyo University\, Itabashi Campus\, Tokyo\, Japan\, Teikyo University\, Itabashi Campus\, Tokyo\, Japan
CATEGORIES:Symposium
END:VEVENT
BEGIN:VEVENT
DTSTART;TZID=Asia/Singapore:20190923T110000
DTEND;TZID=Asia/Singapore:20190923T120000
DTSTAMP:20260421T190639
CREATED:20190912T013947Z
LAST-MODIFIED:20190912T013947Z
UID:27297-1569236400-1569240000@www.mbi.nus.edu.sg
SUMMARY:Soft Substrate Maintains Stemness Properties Of Human Mesenchymal Stem Cells On Long-Term Expansion By Delaying Senes by Sanjay Kumar Kureel
DESCRIPTION:We are pleased to inform you on the seminar of Sanjay Kumar Kureel (post doc candidate hosted by Prof Michael Sheetz)\, “Soft Substrate Maintains Stemness Properties Of Human Mesenchymal Stem Cells On Long-Term Expansion By Delaying Senes” on 23 Sep@11am\, at T-Lab Level 5 Seminar Rooms. Thank you.
URL:https://www.mbi.nus.edu.sg/event/soft-substrate-maintains-stemness-properties-of-human-mesenchymal-stem-cells-on-long-term-expansion-by-delaying-senes-by-sanjay-kumar-kureel/
LOCATION:MBI Seminar Room Lvl 5\, T-Lab\, Level 5\, 5A Engineering Drive 1\, Mechanobiology Institute\, National University of Singapore\, 117411\, Singapore
CATEGORIES:MBI Seminar
END:VEVENT
BEGIN:VEVENT
DTSTART;TZID=Asia/Singapore:20190924T100000
DTEND;TZID=Asia/Singapore:20190924T110000
DTSTAMP:20260421T190639
CREATED:20190920T065913Z
LAST-MODIFIED:20190920T065913Z
UID:27372-1569319200-1569322800@www.mbi.nus.edu.sg
SUMMARY:MBI SPSS: Convergence of ErbB4 and Hippo Pathway-YAP/TAZ signalings in response to mechanical cues by Hamizah Cognart
DESCRIPTION:MBI Student and Postdoc Seminar Series (SPSS)\nTime: 10.00am – 11.00am\nDate: Tuesday\, 24 September 2019\nVenue: Level 5 Seminar Room\, T-Lab \nConvergence of ErbB4 and Hippo Pathway-YAP/TAZ signalings in response to mechanical cues\nBy Hamizah Cognart\, Research Fellow\, Low Group \n  \nPlease note this event is open to MBI researchers and invited guests only. \nFurther\, please note that MBI supports the conservation and green movement. Please bring your own cups for coffee at MBI’s SPSS. The use of paper cups will be discontinued from October onwards.
URL:https://www.mbi.nus.edu.sg/event/mbi-spss-convergence-of-erbb4-and-hippo-pathway-yap-taz-signalings-in-response-to-mechanical-cues-by-hamizah-cognart/
LOCATION:MBI Seminar Room Lvl 5\, T-Lab\, Level 5\, 5A Engineering Drive 1\, Mechanobiology Institute\, National University of Singapore\, 117411\, Singapore
CATEGORIES:MBI Student & Postdoc Seminar
END:VEVENT
BEGIN:VEVENT
DTSTART;TZID=Asia/Singapore:20190926T100000
DTEND;TZID=Asia/Singapore:20190927T130000
DTSTAMP:20260421T190639
CREATED:20190916T023817Z
LAST-MODIFIED:20190916T023817Z
UID:27352-1569492000-1569589200@www.mbi.nus.edu.sg
SUMMARY:Zeiss-On-Your-Campus MBI event
DESCRIPTION:Zeiss-On-Your-Campus MBI event\nSeminar\n26th Sep 10am -12pm\, Level 5 Conference Room \n\nTalk 1: Optical Sectioning Methods – Know the strengths and weaknesses of different microscopes\nTalk 2: LSM 980 with Airyscan 2\, your next generation confocal microscope with multiplex mode\n\nHands-on for MBI users\n26th Sep 1pm-4pm and 27th Sep 10am – 13pm \nSystem Demo\nAfternoon 27th Sep – afternoon 3rd Oct \nAll users are welcome to schedule a session for your own sample testing. \nPlease go to this link to register: https://www.zeiss.com/microscopy/int/service-support/training-and-education.html?vaURL=www.zeiss.com/zoyc \nFor any other information regarding the event\, please contact Liu Jun (mbilj@nus.edu.sg) \nBest regards\, \nLiu Jun
URL:https://www.mbi.nus.edu.sg/event/zeiss-on-your-campus-mbi-event/
LOCATION:MBI Seminar Room Lvl 5\, T-Lab\, Level 5\, 5A Engineering Drive 1\, Mechanobiology Institute\, National University of Singapore\, 117411\, Singapore
CATEGORIES:Vendor Presentation
END:VEVENT
BEGIN:VEVENT
DTSTART;TZID=Asia/Singapore:20190927T100000
DTEND;TZID=Asia/Singapore:20190927T110000
DTSTAMP:20260421T190639
CREATED:20190926T014731Z
LAST-MODIFIED:20190926T080757Z
UID:27388-1569578400-1569582000@www.mbi.nus.edu.sg
SUMMARY:MBI Machine Learning Workgroup for Image Analysis
DESCRIPTION:MBI Machine Learning Workgroup for Image Analysis\nTo facilitate the discussions on that day\, may we propose each PI’s group members to compile a list for their respective groups on: \n\nthe current AI networks used in the group\, and for what problems they are currently being used for (e.g. segmentation/image restoration/2D vs. 3D)?\nthe type of problems that you would like to solve in the (near) future.\n\nIf each group can prepare a few slides of PPT (experimental images that you have worked/want to on)\, that would be best for discussion. \nFor more information\, contact coordinators Saw Thuan Beng or Yong Xianbin. \nPlease note this event is limited to MBI researchers only\, thank you.
URL:https://www.mbi.nus.edu.sg/event/mbi-machine-learning-workgroup-for-image-analysis/
LOCATION:MBI Seminar Room Lvl 5\, T-Lab\, Level 5\, 5A Engineering Drive 1\, Mechanobiology Institute\, National University of Singapore\, 117411\, Singapore
CATEGORIES:Workshop
END:VEVENT
BEGIN:VEVENT
DTSTART;VALUE=DATE:20190930
DTEND;VALUE=DATE:20191001
DTSTAMP:20260421T190639
CREATED:20190626T061749Z
LAST-MODIFIED:20190626T083133Z
UID:26733-1569801600-1569887999@www.mbi.nus.edu.sg
SUMMARY:2019 Singapore Fish Meeting
DESCRIPTION:2019 Singapore Fish Meeting\nDiscovery Centre\, Matrix\, 30 Biopolis St\, Singapore 138671 \n  \nThe Singapore Fish Meeting aims to bring together researchers using fish models like zebrafish and medaka to address key scientific questions. The meeting is part of continuous efforts to support and strengthen the local fish community and promote future collaborations in Singapore. \nRegistration is open\, find out more at dalemaxwell93.wixsite.com/SingaporeFishMeeting \nFeel free to share this information among your lab members\, colleagues/collaborators who are currently working or exploring to work with fish models. \nYou can find a recap of last year’s meeting here: thenode.biologists.com/singapore-fish-meeting-2018/events/ \n 
URL:https://www.mbi.nus.edu.sg/event/2019-singapore-fish-meeting/
LOCATION:National University of Singapore
END:VEVENT
BEGIN:VEVENT
DTSTART;TZID=Asia/Singapore:20190930T160000
DTEND;TZID=Asia/Singapore:20190930T170000
DTSTAMP:20260421T190639
CREATED:20190917T100842Z
LAST-MODIFIED:20190917T100842Z
UID:27365-1569859200-1569862800@www.mbi.nus.edu.sg
SUMMARY:The Talin Code: An Update by Ben Goult
DESCRIPTION:MBI Seminar
URL:https://www.mbi.nus.edu.sg/event/the-talin-code-an-update-by-ben-goult/
LOCATION:MBI Seminar Room Lvl 5\, T-Lab\, Level 5\, 5A Engineering Drive 1\, Mechanobiology Institute\, National University of Singapore\, 117411\, Singapore
CATEGORIES:MBI Seminar
END:VEVENT
END:VCALENDAR