BEGIN:VCALENDAR
VERSION:2.0
PRODID:-//Mechanobiology Institute, National University of Singapore - ECPv6.15.12.2//NONSGML v1.0//EN
CALSCALE:GREGORIAN
METHOD:PUBLISH
X-ORIGINAL-URL:https://www.mbi.nus.edu.sg
X-WR-CALDESC:Events for Mechanobiology Institute, National University of Singapore
REFRESH-INTERVAL;VALUE=DURATION:PT1H
X-Robots-Tag:noindex
X-PUBLISHED-TTL:PT1H
BEGIN:VTIMEZONE
TZID:Asia/Singapore
BEGIN:STANDARD
TZOFFSETFROM:+0800
TZOFFSETTO:+0800
TZNAME:+08
DTSTART:20170101T000000
END:STANDARD
END:VTIMEZONE
BEGIN:VEVENT
DTSTART;TZID=Asia/Singapore:20180904T093000
DTEND;TZID=Asia/Singapore:20180904T103000
DTSTAMP:20260426T104041
CREATED:20180830T012600Z
LAST-MODIFIED:20181005T073957Z
UID:24194-1536053400-1536057000@www.mbi.nus.edu.sg
SUMMARY:MBI SPSS: Role of SPI-2 effectors in Salmonella Typhi pathogenesis by Dr Parisa Zangoui
DESCRIPTION:MBI Student and Postdoc Seminar Series (SPSS)\nTime: 9.30am-10.30am\nDate: Tuesday\, 4 September\, 2018\nVenue: Level 5 Seminar Room\, T-Lab \nRole of SPI-2 effectors in Salmonella Typhi pathogenesis\nBy Dr. Parisa Zangoui\, Research Fellow\, Kenney Group \n  \n* Please note this event is open to MBI researchers and invited guests only. Thank you *
URL:https://www.mbi.nus.edu.sg/event/role-of-spi-2-effectors-in-salmonella-typhi-pathogenesis-by-dr-parisa-zangoui/
LOCATION:MBI Seminar Room Lvl 5\, T-Lab\, Level 5\, 5A Engineering Drive 1\, Mechanobiology Institute\, National University of Singapore\, 117411\, Singapore
CATEGORIES:MBI Student & Postdoc Seminar
END:VEVENT
BEGIN:VEVENT
DTSTART;TZID=Asia/Singapore:20180907T093000
DTEND;TZID=Asia/Singapore:20180907T103000
DTSTAMP:20260426T104041
CREATED:20180903T052456Z
LAST-MODIFIED:20181005T072949Z
UID:24259-1536312600-1536316200@www.mbi.nus.edu.sg
SUMMARY:MBIw: Communicating your research – How MBI Science Communications can help by Andrew Wong
DESCRIPTION:MBI Weekly Meeting Seminar\nTime: 9.30am-10.30am\nDate: Friday\, 7 September 2018\nVenue: Level 5 Seminar Room\, T-Lab \nCommunicating your research – How MBI Science Communications can help\nBy Andrew Wong\,  Facility Manager\, Mechanobiology Institute \n 
URL:https://www.mbi.nus.edu.sg/event/communicating-your-research-how-mbi-science-communications-can-help-by-andrew-wong/
LOCATION:MBI Seminar Room Lvl 5\, T-Lab\, Level 5\, 5A Engineering Drive 1\, Mechanobiology Institute\, National University of Singapore\, 117411\, Singapore
CATEGORIES:MBI Weekly Seminar
END:VEVENT
BEGIN:VEVENT
DTSTART;TZID=Asia/Singapore:20180911T093000
DTEND;TZID=Asia/Singapore:20180911T103000
DTSTAMP:20260426T104041
CREATED:20180905T063716Z
LAST-MODIFIED:20181005T025745Z
UID:24332-1536658200-1536661800@www.mbi.nus.edu.sg
SUMMARY:MBI SPSS: Cyclic stretching inhibits cancer cell growth but promotes normal cell growth by Dr. Ajay Sanjay Tijore
DESCRIPTION:MBI Student and Postdoc Seminar Series (SPSS)\nTime: 9.30am-10.30am\nDate: Tuesday\, 11 September\, 2018\nVenue: Level 5 Seminar Room\, T-Lab \nCyclic stretching inhibits cancer cell growth but promotes normal cell growth\nby Dr. Ajay Sanjay Tijore\, Research Fellow\, Sheetz Group \n  \n* Please note this event is open to MBI researchers and invited guests only. Thank you *
URL:https://www.mbi.nus.edu.sg/event/24332/
LOCATION:MBI Seminar Room Lvl 5\, T-Lab\, Level 5\, 5A Engineering Drive 1\, Mechanobiology Institute\, National University of Singapore\, 117411\, Singapore
CATEGORIES:MBI Student & Postdoc Seminar
END:VEVENT
BEGIN:VEVENT
DTSTART;TZID=Asia/Singapore:20180912T160000
DTEND;TZID=Asia/Singapore:20180912T170000
DTSTAMP:20260426T104041
CREATED:20180827T033925Z
LAST-MODIFIED:20180827T033925Z
UID:24136-1536768000-1536771600@www.mbi.nus.edu.sg
SUMMARY:Mechanisms of mitosis and size control in Xenopus by Prof Rebecca Heald
DESCRIPTION:We are pleased to inform you on the seminar by Prof Rebecca Heald\, hosted by Prof Yan Jie “Mechanisms of mitosis and size control in Xenopus” on 12 Sep (Wed) @ 4pm at T-Lab Level 5 Seminar Rooms. \n \n 
URL:https://www.mbi.nus.edu.sg/event/mechanisms-of-mitosis-and-size-control-in-xenopus-by-prof-rebecca-heald/
LOCATION:MBI Seminar Room Lvl 5\, T-Lab\, Level 5\, 5A Engineering Drive 1\, Mechanobiology Institute\, National University of Singapore\, 117411\, Singapore
CATEGORIES:MBI Seminar
END:VEVENT
BEGIN:VEVENT
DTSTART;VALUE=DATE:20180913
DTEND;VALUE=DATE:20180915
DTSTAMP:20260426T104041
CREATED:20180531T055543Z
LAST-MODIFIED:20180531T055543Z
UID:23018-1536796800-1536969599@www.mbi.nus.edu.sg
SUMMARY:CEMB Mechanobiology Symposium\, Univ of Pennsylvania
DESCRIPTION:The Center for Engineering MechanoBiology (CEMB) is sponsoring a Mechanobiology Symposium at the University of Pennsylvania from September 13-14\, 2018.  This international symposium is being organized with support from the National Science Foundation and will cover emerging issues in forces that control living systems in both plant and animal cells. \nRegistration for the 2018 CEMB Mechanobiology Symposium is now open. \nIf interested\, titles and abstracts for the poster session are being accepted and should be submitted with your registration.  Select students will be invited to give oral presentations based on submitted poster abstracts.  The deadline for abstract submission is August 3\, 2018. \nRegistration fee is $100 and includes meals and materials during the symposium.  Hotel accommodations are available at the Sheraton Philadelphia\, University City Hotel located at 3549 Chestnut Street (approximately 3 blocks from meeting location).  A reduced rate on housing is offered until August 11\, 2018.  More information.
URL:https://www.mbi.nus.edu.sg/event/cemb-mechanobiology-symposium-univ-of-pennsylvania/
LOCATION:National University of Singapore
CATEGORIES:CEMB Centre for Engineering Mechanobiology
END:VEVENT
BEGIN:VEVENT
DTSTART;TZID=Asia/Singapore:20180913T110000
DTEND;TZID=Asia/Singapore:20180913T120000
DTSTAMP:20260426T104041
CREATED:20180907T041549Z
LAST-MODIFIED:20191212T035043Z
UID:24404-1536836400-1536840000@www.mbi.nus.edu.sg
SUMMARY:MBI GSC: A Career Niche at the Interface of Academia and Industry -The career journey of a research data scientist by Zhang Zhen
DESCRIPTION:The MBI Graduate Student Club (GSC) is pleased to invite you to an interactive career exploration session with Zhang Zhen to discuss “A Career Niche at the Interface of Academia and Industry -The career journey of a research data scientist”\, on 13 Sept (Thurs) @ 11am at T-Lab Level 5 Seminar Rooms. \nTime: 11am to 12pm\nDate: Thursday\, 13 September 2018\nVenue: Level 5 Seminar Rooms\, T-Lab \nThe following topics will be covered: \n\nPersonal Experience in Career Choice and Job Hunting\nCareer opportunities in the Academia and Industry\nJob Scope and Skills of a Data Scientist\nAdvice for Career Preparation\n\nAll are welcome to this interactive session. Pizza and drink will be provided by the speaker and GSC\, Please kindly register your interest here https://goo.gl/forms/pRB3bP3L8KwkK1am1 to facilitate our preparation. \n 
URL:https://www.mbi.nus.edu.sg/event/a-career-niche-at-the-interface-of-academia-and-industry-the-career-journey-of-a-research-data-scientist-by-zhang-zhen/
LOCATION:MBI Seminar Room Lvl 5\, T-Lab\, Level 5\, 5A Engineering Drive 1\, Mechanobiology Institute\, National University of Singapore\, 117411\, Singapore
CATEGORIES:MBI Graduate Student Club
ATTACH;FMTTYPE=image/png:https://www.mbi.nus.edu.sg/wp-content/uploads/2018/09/2018-09-Career-niche.png
END:VEVENT
BEGIN:VEVENT
DTSTART;TZID=Asia/Singapore:20180914T093000
DTEND;TZID=Asia/Singapore:20180914T103000
DTSTAMP:20260426T104041
CREATED:20180910T035806Z
LAST-MODIFIED:20181005T073018Z
UID:24432-1536917400-1536921000@www.mbi.nus.edu.sg
SUMMARY:MBIw: Going round in circles: morphogenesis of the semicircular canals of the zebrafish inner ear by Professor Tanya Whitfield
DESCRIPTION:MBI Weekly Meeting Seminar\nTime: 9.30am-10.30am\nDate: Friday\, 14 September 2018\nVenue: Level 5 Seminar Room\, T-Lab \nGoing round in circles: morphogenesis of the semicircular canals of the zebrafish inner ear\nby Professor Tanya Whitfield\, Professor\, University of Sheffield\, UK
URL:https://www.mbi.nus.edu.sg/event/going-round-in-circles-morphogenesis-of-the-semicircular-canals-of-the-zebrafish-inner-ear-by-professor-tanya-whitfield/
LOCATION:MBI Seminar Room Lvl 5\, T-Lab\, Level 5\, 5A Engineering Drive 1\, Mechanobiology Institute\, National University of Singapore\, 117411\, Singapore
CATEGORIES:MBI Weekly Seminar
END:VEVENT
BEGIN:VEVENT
DTSTART;TZID=Asia/Singapore:20180918T093000
DTEND;TZID=Asia/Singapore:20180918T103000
DTSTAMP:20260426T104041
CREATED:20180917T021038Z
LAST-MODIFIED:20181005T025718Z
UID:24493-1537263000-1537266600@www.mbi.nus.edu.sg
SUMMARY:MBI SPSS: Mechanical response of Salmonella Biofilm associated protein A by Dr Guttula Durgarao
DESCRIPTION:MBI Student and Postdoc Seminar Series (SPSS)\nTime: 9.30am-10.30am\nDate: Tuesday\, 18 September\, 2018\nVenue: Level 5 Seminar Room\, T-Lab \nMechanical response of Salmonella Biofilm associated protein A\nby Dr. Guttula Durgarao\, Research Fellow\, Yan Group \n  \n  \n* Please note this event is open to MBI researchers and invited guests only. Thank you *
URL:https://www.mbi.nus.edu.sg/event/mechanical-response-of-salmonella-biofilm-associated-protein-a-by-dr-guttula-durgarao/
LOCATION:MBI Seminar Room Lvl 5\, T-Lab\, Level 5\, 5A Engineering Drive 1\, Mechanobiology Institute\, National University of Singapore\, 117411\, Singapore
CATEGORIES:MBI Student & Postdoc Seminar
END:VEVENT
BEGIN:VEVENT
DTSTART;TZID=Asia/Singapore:20180920T150000
DTEND;TZID=Asia/Singapore:20180920T160000
DTSTAMP:20260426T104041
CREATED:20180919T092746Z
LAST-MODIFIED:20180919T092837Z
UID:24565-1537455600-1537459200@www.mbi.nus.edu.sg
SUMMARY:Turning micro-wells into artificial 3D micro-niches with combined biochemical and biophysical cues by Celine Marie Helene Stoecklin
DESCRIPTION:MBI PhD Oral Defense\nTime: 3pm\nDate:  Thursday\, 20 September 2018\nVenue: NUS Faculty of Engineering\, E3-06-12 \nSupervisors: Prof Virgile Viasnoff (Main supervisor)\, Prof Evelyn Yim (Co-supervisor) \nTurning micro-wells into artificial 3D micro-niches with combined biochemical and biophysical cues\nby Celine Marie Helene STOECKLIN\, Viasnoff Group \n  \nCells in a tissue are residing within an assembly of intertwined chemical and mechanical signals coming from the extracellular matrix\, cell–cell interactions and soluble factors. It is this complex and three-dimensional (3D) micro-environment that governs their behavior. Rapid progress has been made in the development of biomimetic culture systems aiming to recapitulate this complexity in vitro. All these tools have greatly advance our understanding of how cells sense their surrounding environment. Moreover\, these engineered artificial micro-environments provide good platforms to study biological processes and understand their underlying regulatory mechanisms under highly defined conditions. Whereas a large number of environmental cues can be reconstituted individually and mostly in two-dimension (2D)\, it remains challenging to control in a single technique any combination of these factors. \nIn the first part of the thesis\, we propose a novel approach to create 3D artificial micro-niches with more than 80 possible combinations of environ- mental factors. Using a UV protein printer and photo-reactive materials\, we demonstrate how the layering of polymeric membranes can be used to fabricate micro-niches with complex environmental properties. Our approach enables to bio-functionalized micro-wells in 3D simultaneously with protein patterns\, structured hydrogels and topographical features with 1 micrometer precision.  \nThe second part is dedicated to cell seeding and behavior inside these complex micro-niches. Focusing on single epithelial cell\, we demonstrate how fibronectin micro-patterned niches extend the capability to normalize cell internal organization in 3D. We then show that a specific micro-environment mimicking the in vivo conditions can trigger the apico-basal polarization of single hepatocytes. \nIn the last part\, we investigate the potential of our method to create complex micro-niches with multiple cell types at the organoid scale. To explore this topic\, we take the human hair follicle as a paradigm. Specifically\, the reciprocal epithelial-mesenchymal interaction necessary for hair growth is studied by monitoring the spatial organisation of human primary keratinocytes and dermal papilla cells of the hair follicle inside the micro- niches. \n  \n**Please note the examination following the seminar is closed-door** \n 
URL:https://www.mbi.nus.edu.sg/event/turning-micro-wells-into-artificial-3d-micro-niches-with-combined-biochemical-and-biophysical-cues-by-celine-marie-helene-stoecklin/
LOCATION:MBI Seminar Room Lvl 5\, T-Lab\, Level 5\, 5A Engineering Drive 1\, Mechanobiology Institute\, National University of Singapore\, 117411\, Singapore
CATEGORIES:MBI Seminar,PhD Oral Defense
END:VEVENT
BEGIN:VEVENT
DTSTART;TZID=Asia/Singapore:20180924T110000
DTEND;TZID=Asia/Singapore:20180924T120000
DTSTAMP:20260426T104041
CREATED:20180917T021439Z
LAST-MODIFIED:20180917T021439Z
UID:24495-1537786800-1537790400@www.mbi.nus.edu.sg
SUMMARY:Emergent Oscillations In Dense Adaptive Cell Populations by Prof Tang Leihan
DESCRIPTION:We are pleased to inform you on the seminar by Prof Tang Leihan\, hosted by Prof Yan Jie “Emergent Oscillations In Dense Adaptive Cell Populations” on 24 Sep (Mon) @11amat T-Lab Level 5 Seminar Rooms.
URL:https://www.mbi.nus.edu.sg/event/emergent-oscillations-in-dense-adaptive-cell-populations-by-prof-tang-leihan/
LOCATION:MBI Seminar Room Lvl 5\, T-Lab\, Level 5\, 5A Engineering Drive 1\, Mechanobiology Institute\, National University of Singapore\, 117411\, Singapore
CATEGORIES:MBI Seminar
END:VEVENT
BEGIN:VEVENT
DTSTART;TZID=Asia/Singapore:20180925T093000
DTEND;TZID=Asia/Singapore:20180925T103000
DTSTAMP:20260426T104041
CREATED:20180924T045652Z
LAST-MODIFIED:20181005T025621Z
UID:24585-1537867800-1537871400@www.mbi.nus.edu.sg
SUMMARY:MBI SPSS: Mechanical impact of apoptotic cell extrusion on neighbouring cells by Yow Ying Ming Ivan
DESCRIPTION:MBI Student and Postdoc Seminar Series (SPSS)\nTime: 9.30am-10.30am\nDate: Tuesday\, 25 September\, 2018\nVenue: Level 5 Seminar Room\, T-Lab \nMechanical impact of apoptotic cell extrusion on neighbouring cells\nBy Yow Ying Ming Ivan\, PhD Student\, Toyama Group \n  \n\n* Please note this event is open to MBI researchers and invited guests only. Thank you *
URL:https://www.mbi.nus.edu.sg/event/mechanical-impact-of-apoptotic-cell-extrusion-on-neighbouring-cells-by-yow-ying-ming-ivan/
LOCATION:MBI Seminar Room Lvl 5\, T-Lab\, Level 5\, 5A Engineering Drive 1\, Mechanobiology Institute\, National University of Singapore\, 117411\, Singapore
CATEGORIES:MBI Student & Postdoc Seminar
END:VEVENT
BEGIN:VEVENT
DTSTART;TZID=Asia/Singapore:20180927T133000
DTEND;TZID=Asia/Singapore:20180927T171500
DTSTAMP:20260426T104041
CREATED:20180911T095046Z
LAST-MODIFIED:20180927T024632Z
UID:24490-1538055000-1538068500@www.mbi.nus.edu.sg
SUMMARY:T-Lab building safety day
DESCRIPTION:T-Lab building safety day\n27 September 2018\, Thursday \nRegistration starts at 13:30 – Registration stops at 14:00 (or while goodie bag last\, whichever is earlier).
URL:https://www.mbi.nus.edu.sg/event/t-lab-building-safety-day/
LOCATION:National University of Singapore
CATEGORIES:MBI Safety Day
ATTACH;FMTTYPE=image/jpeg:https://www.mbi.nus.edu.sg/wp-content/uploads/2018/09/2018-09-tlab-safety-day.jpg
END:VEVENT
BEGIN:VEVENT
DTSTART;TZID=Asia/Singapore:20180928T093000
DTEND;TZID=Asia/Singapore:20180928T103000
DTSTAMP:20260426T104041
CREATED:20180927T025309Z
LAST-MODIFIED:20181005T073206Z
UID:24720-1538127000-1538130600@www.mbi.nus.edu.sg
SUMMARY:MBIw: The JNK signaling links the CNS architectural organization to motor coordination in Drosophila by Dr. Enrique Martin-Blanco
DESCRIPTION:We are pleased to inform you on the seminar by Dr. Enrique Martin-Blanco\, hosted by Dr. Timothy Saunders “The JNK signaling links the CNS architectural organization to motor coordination in Drosophila” on 28 Sep (Frid) @ 9.30am at T-Lab Level 5 Seminar Rooms. Thank you.
URL:https://www.mbi.nus.edu.sg/event/the-jnk-signaling-links-the-cns-architectural-organization-to-motor-coordination-in-drosophila-by-dr-enrique-martin-blanco/
LOCATION:MBI Seminar Room Lvl 5\, T-Lab\, Level 5\, 5A Engineering Drive 1\, Mechanobiology Institute\, National University of Singapore\, 117411\, Singapore
CATEGORIES:MBI Seminar,MBI Weekly Seminar
ATTACH;FMTTYPE=image/jpeg:https://www.mbi.nus.edu.sg/wp-content/uploads/2018/09/2018-09-martin-blanco.jpg
END:VEVENT
END:VCALENDAR