BEGIN:VCALENDAR
VERSION:2.0
PRODID:-//Mechanobiology Institute, National University of Singapore - ECPv6.15.12.2//NONSGML v1.0//EN
CALSCALE:GREGORIAN
METHOD:PUBLISH
X-ORIGINAL-URL:https://www.mbi.nus.edu.sg
X-WR-CALDESC:Events for Mechanobiology Institute, National University of Singapore
REFRESH-INTERVAL;VALUE=DURATION:PT1H
X-Robots-Tag:noindex
X-PUBLISHED-TTL:PT1H
BEGIN:VTIMEZONE
TZID:Asia/Singapore
BEGIN:STANDARD
TZOFFSETFROM:+0800
TZOFFSETTO:+0800
TZNAME:+08
DTSTART:20180101T000000
END:STANDARD
END:VTIMEZONE
BEGIN:VEVENT
DTSTART;TZID=Asia/Singapore:20190926T100000
DTEND;TZID=Asia/Singapore:20190927T130000
DTSTAMP:20260426T035135
CREATED:20190916T023817Z
LAST-MODIFIED:20190916T023817Z
UID:27352-1569492000-1569589200@www.mbi.nus.edu.sg
SUMMARY:Zeiss-On-Your-Campus MBI event
DESCRIPTION:Zeiss-On-Your-Campus MBI event\nSeminar\n26th Sep 10am -12pm\, Level 5 Conference Room \n\nTalk 1: Optical Sectioning Methods – Know the strengths and weaknesses of different microscopes\nTalk 2: LSM 980 with Airyscan 2\, your next generation confocal microscope with multiplex mode\n\nHands-on for MBI users\n26th Sep 1pm-4pm and 27th Sep 10am – 13pm \nSystem Demo\nAfternoon 27th Sep – afternoon 3rd Oct \nAll users are welcome to schedule a session for your own sample testing. \nPlease go to this link to register: https://www.zeiss.com/microscopy/int/service-support/training-and-education.html?vaURL=www.zeiss.com/zoyc \nFor any other information regarding the event\, please contact Liu Jun (mbilj@nus.edu.sg) \nBest regards\, \nLiu Jun
URL:https://www.mbi.nus.edu.sg/event/zeiss-on-your-campus-mbi-event/
LOCATION:MBI Seminar Room Lvl 5\, T-Lab\, Level 5\, 5A Engineering Drive 1\, Mechanobiology Institute\, National University of Singapore\, 117411\, Singapore
CATEGORIES:Vendor Presentation
END:VEVENT
END:VCALENDAR