BEGIN:VCALENDAR
VERSION:2.0
PRODID:-//Mechanobiology Institute, National University of Singapore - ECPv6.15.12.2//NONSGML v1.0//EN
CALSCALE:GREGORIAN
METHOD:PUBLISH
X-WR-CALNAME:Mechanobiology Institute, National University of Singapore
X-ORIGINAL-URL:https://www.mbi.nus.edu.sg
X-WR-CALDESC:Events for Mechanobiology Institute, National University of Singapore
REFRESH-INTERVAL;VALUE=DURATION:PT1H
X-Robots-Tag:noindex
X-PUBLISHED-TTL:PT1H
BEGIN:VTIMEZONE
TZID:Asia/Singapore
BEGIN:STANDARD
TZOFFSETFROM:+0800
TZOFFSETTO:+0800
TZNAME:+08
DTSTART:20180101T000000
END:STANDARD
END:VTIMEZONE
BEGIN:VEVENT
DTSTART;TZID=Asia/Singapore:20190814T020000
DTEND;TZID=Asia/Singapore:20190814T170000
DTSTAMP:20260423T195338
CREATED:20190813T012231Z
LAST-MODIFIED:20190813T012231Z
UID:27124-1565748000-1565802000@www.mbi.nus.edu.sg
SUMMARY:MBI welcomes students from Zhejiang University
DESCRIPTION:There will be a MBI Outreach Visit by Zhejiang University undergraduate students (26 pax) on 14th August with details as follows: \nDate: 14th August\, Wednesday\nProgramme: 2.00pm – 4.45pm \nLab Demonstration: estimated to be from 3.00pm – 4.00pm \n\n\n\n\nDemonstration \n\n\nDemonstrator \n\n\nLocation \n\n\n\n\nPlasmid Isolation and Agarose Gel Electrophoresis \n\n\nParamasivam Kathirvel \n\n\nL10 Lab Benches 03A \n\n\n\n\nSuperresolution \n\n\nKah Jun \n\n\nL9 NSTORM system room 7 \n\n\n\n\nMicrofabrication \n\n\nSree and Mona \n\n\nL9 uFab core wet bench \n\n\n\n\nMagnetic Tweezers \n\n\nLe Shimin \n\n\nL10\, next to AFM Room \n\n\n\n\nTherefore\, we would like to request your kind cooperation to plan your research discussions/experiments with the above in mind to allow for the smooth running of the outreach. \n 
URL:https://www.mbi.nus.edu.sg/event/mbi-welcomes-students-from-zhejiang-university/
CATEGORIES:Outreach Event
END:VEVENT
END:VCALENDAR