BEGIN:VCALENDAR
VERSION:2.0
PRODID:-//Mechanobiology Institute, National University of Singapore - ECPv6.15.12.2//NONSGML v1.0//EN
CALSCALE:GREGORIAN
METHOD:PUBLISH
X-WR-CALNAME:Mechanobiology Institute, National University of Singapore
X-ORIGINAL-URL:https://www.mbi.nus.edu.sg
X-WR-CALDESC:Events for Mechanobiology Institute, National University of Singapore
REFRESH-INTERVAL;VALUE=DURATION:PT1H
X-Robots-Tag:noindex
X-PUBLISHED-TTL:PT1H
BEGIN:VTIMEZONE
TZID:Asia/Singapore
BEGIN:STANDARD
TZOFFSETFROM:+0800
TZOFFSETTO:+0800
TZNAME:+08
DTSTART:20180101T000000
END:STANDARD
END:VTIMEZONE
BEGIN:VEVENT
DTSTART;TZID=Asia/Singapore:20190408T020000
DTEND;TZID=Asia/Singapore:20190408T170000
DTSTAMP:20260424T220939
CREATED:20190404T090118Z
LAST-MODIFIED:20190404T090118Z
UID:26271-1554688800-1554742800@www.mbi.nus.edu.sg
SUMMARY:MBI welcomes high school students from United Arab Emirates
DESCRIPTION:MBI welcomes high school students from United Arab Emirates\nDate: 8th April 2019\, Monday\nTime: 2.00 – 5.00PM\nPax: 40 students and 4 teachers \nThe following locations will be used for the above outreach: \nLab Demonstrations: estimated to be from 3.00 – 4.30PM \n\nPlasmid Isolation and Agarose Gel Electrophoresis (L10 Lab Benches 03A)\nMicrofabrication (L9 uFab core wet bench)\nSuperresolution (L9 NSTORM system room 7)\n\nGroup Activity: estimated to be from 2.30 – 4.30PM \n\nT-lab Building L10 Foyer
URL:https://www.mbi.nus.edu.sg/event/mbi-welcomes-high-school-students-from-united-arab-emirates/
CATEGORIES:Outreach Event
END:VEVENT
BEGIN:VEVENT
DTSTART;TZID=Asia/Singapore:20190409T143000
DTEND;TZID=Asia/Singapore:20190409T170000
DTSTAMP:20260424T220939
CREATED:20190404T090348Z
LAST-MODIFIED:20190404T090348Z
UID:26273-1554820200-1554829200@www.mbi.nus.edu.sg
SUMMARY:MBI welcomes students from Vrije Universiteit Amsterdam\, the Netherlands
DESCRIPTION:MBI welcomes students from Vrije Universiteit Amsterdam\, the Netherlands\nDate: 9th April 2019\, Tuesday\nTime: 2.30 – 5.00PM\nPax: 22 students and 2 teachers \nThe following locations will be used for the above outreach: \nLab Demonstrations: estimated to be from 3.30 – 4.30PM \n\nMagnetic Tweezers (L10\, next to AFM Room)\nMicrofabrication (L9 uFab core wet bench)\nSuperresolution (L9 NSTORM system room 7)\n\nTherefore\, we would like to request your kind cooperation to plan your experiments with the above in mind to allow for the smooth progress of the outreaches.
URL:https://www.mbi.nus.edu.sg/event/mbi-welcomes-students-from-vrije-universiteit-amsterdam-the-netherlands/
CATEGORIES:Outreach Event
END:VEVENT
END:VCALENDAR