BEGIN:VCALENDAR
VERSION:2.0
PRODID:-//Mechanobiology Institute, National University of Singapore - ECPv6.15.12.2//NONSGML v1.0//EN
CALSCALE:GREGORIAN
METHOD:PUBLISH
X-WR-CALNAME:Mechanobiology Institute, National University of Singapore
X-ORIGINAL-URL:https://www.mbi.nus.edu.sg
X-WR-CALDESC:Events for Mechanobiology Institute, National University of Singapore
REFRESH-INTERVAL;VALUE=DURATION:PT1H
X-Robots-Tag:noindex
X-PUBLISHED-TTL:PT1H
BEGIN:VTIMEZONE
TZID:Asia/Singapore
BEGIN:STANDARD
TZOFFSETFROM:+0800
TZOFFSETTO:+0800
TZNAME:+08
DTSTART:20180101T000000
END:STANDARD
END:VTIMEZONE
BEGIN:VEVENT
DTSTART;TZID=Asia/Singapore:20190306T150000
DTEND;TZID=Asia/Singapore:20190306T180000
DTSTAMP:20260424T221010
CREATED:20190306T064405Z
LAST-MODIFIED:20190306T064405Z
UID:26002-1551884400-1551895200@www.mbi.nus.edu.sg
SUMMARY:MBI Outreach: MBI welcomes students & teachers from Hokkaido University
DESCRIPTION:MBI Outreach Event\nThere will be a MBI Outreach Visit by Hokkaido University on 6th March\, Wednesday: \nDate: 6th March 2019\, Wednesday\nTime: 3.00 – 6.00PM\nPax: 26 students and 2 teachers \nLab demonstrations: estimated to be from 4.30 – 5.30PM \n\nWidefield Fluorescence Microscope (L9 Microscopy Room 8) – venue has been changed to L10 Room 1 (Delta Vision)\nMicrofabrication (L9 lab benches)\nSuperresolution (L9 NSTORM system room 7)\n\nTherefore\, we would like to request your kind cooperation to plan your experiments with this in mind\, so as to ensure the smooth progress of the lab demos from 4.30-5.30PM. \nThank you.
URL:https://www.mbi.nus.edu.sg/event/mbi-outreach-mbi-welcomes-students-teachers-from-hokkaido-university/
CATEGORIES:Outreach Event
END:VEVENT
END:VCALENDAR