BEGIN:VCALENDAR
VERSION:2.0
PRODID:-//Mechanobiology Institute, National University of Singapore - ECPv6.15.12.2//NONSGML v1.0//EN
CALSCALE:GREGORIAN
METHOD:PUBLISH
X-WR-CALNAME:Mechanobiology Institute, National University of Singapore
X-ORIGINAL-URL:https://www.mbi.nus.edu.sg
X-WR-CALDESC:Events for Mechanobiology Institute, National University of Singapore
REFRESH-INTERVAL;VALUE=DURATION:PT1H
X-Robots-Tag:noindex
X-PUBLISHED-TTL:PT1H
BEGIN:VTIMEZONE
TZID:Asia/Singapore
BEGIN:STANDARD
TZOFFSETFROM:+0800
TZOFFSETTO:+0800
TZNAME:+08
DTSTART:20180101T000000
END:STANDARD
END:VTIMEZONE
BEGIN:VEVENT
DTSTART;TZID=Asia/Singapore:20190109T130000
DTEND;TZID=Asia/Singapore:20190109T153000
DTSTAMP:20260425T012707
CREATED:20190104T091748Z
LAST-MODIFIED:20190104T091748Z
UID:25548-1547038800-1547047800@www.mbi.nus.edu.sg
SUMMARY:MBI welcomes GLEAP Programme students from Seoul National University
DESCRIPTION:There will be an upcoming student visit by the GLEAP programme from Seoul National University as part of their visit to NUS as follows: \nDate: 9th January\, Wednesday\nTime: 1.00 – 3.30PM\nPax: estimated 20 students \nLab demonstrations: estimated to be from 2.00 – 3.15PM \n\nMicrofabrication (L9 uFab core wet bench)\nSuperresolution (L9 microscopy room 7\, NSTORM system)\nMicropatterning (L10 Tissue Culture Room)
URL:https://www.mbi.nus.edu.sg/event/mbi-welcomes-gleap-programme-students-from-seoul-national-university/
CATEGORIES:Outreach Event
END:VEVENT
END:VCALENDAR