BEGIN:VCALENDAR
VERSION:2.0
PRODID:-//Mechanobiology Institute, National University of Singapore - ECPv6.15.12.2//NONSGML v1.0//EN
CALSCALE:GREGORIAN
METHOD:PUBLISH
X-WR-CALNAME:Mechanobiology Institute, National University of Singapore
X-ORIGINAL-URL:https://www.mbi.nus.edu.sg
X-WR-CALDESC:Events for Mechanobiology Institute, National University of Singapore
REFRESH-INTERVAL;VALUE=DURATION:PT1H
X-Robots-Tag:noindex
X-PUBLISHED-TTL:PT1H
BEGIN:VTIMEZONE
TZID:UTC
BEGIN:STANDARD
TZOFFSETFROM:+0000
TZOFFSETTO:+0000
TZNAME:UTC
DTSTART:20220101T000000
END:STANDARD
END:VTIMEZONE
BEGIN:VEVENT
DTSTART;TZID=UTC:20230106T160000
DTEND;TZID=UTC:20230106T170000
DTSTAMP:20260425T043014
CREATED:20221228T035508Z
LAST-MODIFIED:20230106T055540Z
UID:36357-1673020800-1673024400@www.mbi.nus.edu.sg
SUMMARY:MBI Weekly Seminar
DESCRIPTION:MBI Weekly Seminar\nDate: 6 Jan 2023\, Friday\nTime: 4pm\nVenue: Zoom \n\nFrom cell-generated forces to global tissue pattern and shape (and back)\nBy Pierre-françois Lenne\, Aix-Marseille University\, France (Host: Virgile Viasnoff) \nFind Help\nNon MBI staff who are interested in attending should contact Qiao Jing at mbilqj@nus.edu.sg for Zoom details. If you are having difficulty connecting\, contact the MBI ITCore at mbit@nus.edu.sg
URL:https://www.mbi.nus.edu.sg/event/mbi-weekly-seminar-7/
LOCATION:ZOOM webcast
CATEGORIES:MBI Weekly Seminar
END:VEVENT
BEGIN:VEVENT
DTSTART;TZID=UTC:20230113T100000
DTEND;TZID=UTC:20230113T110000
DTSTAMP:20260425T043014
CREATED:20221228T035654Z
LAST-MODIFIED:20230113T022149Z
UID:36359-1673604000-1673607600@www.mbi.nus.edu.sg
SUMMARY:MBI Weekly Seminar
DESCRIPTION:MBI Weekly Seminar\nDate: 13 Jan 2023\, Friday\nTime: 10am\nVenue: Level 5 Seminar Room \nMechanobiology of epithelial cells: confinement and collective migration\nBy Sylvain Gabriele\, Université de Mons\, Belgium (Host: Tsuyoshi Hirashima) \nFind Help\nNon MBI staff who are interested in attending should contact Qiao Jing at mbilqj@nus.edu.sg for seminar details.
URL:https://www.mbi.nus.edu.sg/event/mbi-weekly-seminar-8/
LOCATION:MBI Seminar Room Lvl 5\, T-Lab\, Level 5\, 5A Engineering Drive 1\, Mechanobiology Institute\, National University of Singapore\, 117411\, Singapore
CATEGORIES:MBI Weekly Seminar
END:VEVENT
BEGIN:VEVENT
DTSTART;TZID=UTC:20230120T100000
DTEND;TZID=UTC:20230120T110000
DTSTAMP:20260425T043014
CREATED:20221228T040128Z
LAST-MODIFIED:20230117T060519Z
UID:36364-1674208800-1674212400@www.mbi.nus.edu.sg
SUMMARY:MBI Weekly Seminar
DESCRIPTION:MBI Weekly Seminar\nDate: 20 Jan 2023\, Friday\nTime: 10am\nVenue: Level 5 Seminar Room \nCurvature-induced epithelium reorganization on soft wavy hydrogels\nBy Marine Luciano\, University of Geneva\, Switzerland (Host: Tsuyoshi Hirashima) \nFind Help\nNon MBI staff who are interested in attending should contact Qiao Jing at mbilqj@nus.edu.sg for seminar details.
URL:https://www.mbi.nus.edu.sg/event/mbi-weekly-seminar-11/
LOCATION:MBI Seminar Room Lvl 5\, T-Lab\, Level 5\, 5A Engineering Drive 1\, Mechanobiology Institute\, National University of Singapore\, 117411\, Singapore
CATEGORIES:MBI Weekly Seminar
END:VEVENT
BEGIN:VEVENT
DTSTART;TZID=UTC:20230127T160000
DTEND;TZID=UTC:20230127T170000
DTSTAMP:20260425T043014
CREATED:20221228T040454Z
LAST-MODIFIED:20230126T061508Z
UID:36366-1674835200-1674838800@www.mbi.nus.edu.sg
SUMMARY:MBI Weekly Seminar
DESCRIPTION:MBI Weekly Seminar\nDate: 27 Jan 2023\, Friday\nTime: 4pm\nVenue: Zoom \nQuantifying whole embryo morphogenesis and its reproducibility at the single cell scale\nBy Leo Guignard\, Aix-Marseille University\, France (Host: Virgile Viasnoff) \nFind Help\nNon MBI staff who are interested in attending should contact Qiao Jing at mbilqj@nus.edu.sg for Zoom details. If you are having difficulty connecting\, contact the MBI ITCore at mbit@nus.edu.sg
URL:https://www.mbi.nus.edu.sg/event/mbi-weekly-seminar-12/
LOCATION:ZOOM webcast
CATEGORIES:MBI Weekly Seminar
END:VEVENT
END:VCALENDAR