BEGIN:VCALENDAR
VERSION:2.0
PRODID:-//Mechanobiology Institute, National University of Singapore - ECPv6.15.12.2//NONSGML v1.0//EN
CALSCALE:GREGORIAN
METHOD:PUBLISH
X-WR-CALNAME:Mechanobiology Institute, National University of Singapore
X-ORIGINAL-URL:https://www.mbi.nus.edu.sg
X-WR-CALDESC:Events for Mechanobiology Institute, National University of Singapore
REFRESH-INTERVAL;VALUE=DURATION:PT1H
X-Robots-Tag:noindex
X-PUBLISHED-TTL:PT1H
BEGIN:VTIMEZONE
TZID:Asia/Singapore
BEGIN:STANDARD
TZOFFSETFROM:+0800
TZOFFSETTO:+0800
TZNAME:+08
DTSTART:20180101T000000
END:STANDARD
END:VTIMEZONE
BEGIN:VEVENT
DTSTART;TZID=Asia/Singapore:20190405T093000
DTEND;TZID=Asia/Singapore:20190405T103000
DTSTAMP:20260421T104039
CREATED:20190404T040140Z
LAST-MODIFIED:20190404T040225Z
UID:26262-1554456600-1554460200@www.mbi.nus.edu.sg
SUMMARY:MBIw: Translational Mechanobiology of Liver Diseases by Prof Yu Hanry
DESCRIPTION:MBI Weekly Meeting Seminar\nTime: 9.30am-10.30am\nDate: Friday\, 5 April 2019\nVenue: Level 5 Seminar Room\, T-Lab \nTranslational Mechanobiology of Liver Diseases\nby Prof. Yu Hanry\, Professor\, Mechanobiology Institute\, National University of Singapore \n 
URL:https://www.mbi.nus.edu.sg/event/mbiw-translational-mechanobiology-of-liver-diseases-by-prof-yu-hanry/
LOCATION:MBI Seminar Room Lvl 5\, T-Lab\, Level 5\, 5A Engineering Drive 1\, Mechanobiology Institute\, National University of Singapore\, 117411\, Singapore
CATEGORIES:MBI Weekly Seminar
END:VEVENT
BEGIN:VEVENT
DTSTART;TZID=Asia/Singapore:20190412T093000
DTEND;TZID=Asia/Singapore:20190412T103000
DTSTAMP:20260421T104039
CREATED:20190409T034151Z
LAST-MODIFIED:20190409T034151Z
UID:26316-1555061400-1555065000@www.mbi.nus.edu.sg
SUMMARY:MBIw: Scaffold Proteins at the Signalling Crossroads by Prof Low Boon Chuan
DESCRIPTION:MBI Weekly Meeting Seminar\nTime: 9.30am-10.30am\nDate: Friday\, 12 April 2019\nVenue: Level 5 Seminar Room\, T-Lab \nScaffold Proteins at the Signalling Crossroads\nBy Prof. Low Boon Chuan\, Associate Professor\, Mechanobiology Institute\, National University of Singapore \n 
URL:https://www.mbi.nus.edu.sg/event/mbiw-scaffold-proteins-at-the-signalling-crossroads-by-prof-low-boon-chuan/
LOCATION:MBI Seminar Room Lvl 5\, T-Lab\, Level 5\, 5A Engineering Drive 1\, Mechanobiology Institute\, National University of Singapore\, 117411\, Singapore
CATEGORIES:MBI Weekly Seminar
END:VEVENT
BEGIN:VEVENT
DTSTART;TZID=Asia/Singapore:20190416T093000
DTEND;TZID=Asia/Singapore:20190416T103000
DTSTAMP:20260421T104039
CREATED:20190412T015234Z
LAST-MODIFIED:20190416T022129Z
UID:26328-1555407000-1555410600@www.mbi.nus.edu.sg
SUMMARY:MBI SPSS: An overview of MBI IT Infrastructure and Services by Sandeep Kumar
DESCRIPTION:MBI Student and Postdoc Seminar Series (SPSS)\nTime: 9.30am-10.30am\nDate: Tuesday\, 16 April 2019\nVenue: Level 5 Seminar Room\, T-Lab \nAn overview of MBI IT Infrastructure and Services\nby Sandeep Kumar\, Systems and Network Administration \n  \n* Please note this event is open to MBI researchers and invited guests only. Thank you *
URL:https://www.mbi.nus.edu.sg/event/mbi-spss-an-overview-of-mbi-it-infrastructure-and-services/
LOCATION:MBI Seminar Room Lvl 5\, T-Lab\, Level 5\, 5A Engineering Drive 1\, Mechanobiology Institute\, National University of Singapore\, 117411\, Singapore
CATEGORIES:MBI Weekly Seminar
END:VEVENT
BEGIN:VEVENT
DTSTART;TZID=Asia/Singapore:20190426T093000
DTEND;TZID=Asia/Singapore:20190426T170000
DTSTAMP:20260421T104039
CREATED:20190424T071217Z
LAST-MODIFIED:20190424T071217Z
UID:26423-1556271000-1556298000@www.mbi.nus.edu.sg
SUMMARY:MBIw: Nonlinearity and local heterogeneity in plant development by Long Yuchen
DESCRIPTION:We are pleased to inform you on the seminar of Dr. Long Yuchen\, hosted by Dr. Timothy Saunders “Nonlinearity and local heterogeneity in plant development” on 26 April (Friday) @9.30am at T-Lab Level 5 Seminar Rooms. Thank you.
URL:https://www.mbi.nus.edu.sg/event/mbiw-nonlinearity-and-local-heterogeneity-in-plant-development-by-long-yuchen/
LOCATION:MBI Seminar Room Lvl 5\, T-Lab\, Level 5\, 5A Engineering Drive 1\, Mechanobiology Institute\, National University of Singapore\, 117411\, Singapore
CATEGORIES:MBI Seminar,MBI Weekly Seminar
END:VEVENT
END:VCALENDAR