BEGIN:VCALENDAR
VERSION:2.0
PRODID:-//Mechanobiology Institute, National University of Singapore - ECPv6.15.12.2//NONSGML v1.0//EN
CALSCALE:GREGORIAN
METHOD:PUBLISH
X-ORIGINAL-URL:https://www.mbi.nus.edu.sg
X-WR-CALDESC:Events for Mechanobiology Institute, National University of Singapore
REFRESH-INTERVAL;VALUE=DURATION:PT1H
X-Robots-Tag:noindex
X-PUBLISHED-TTL:PT1H
BEGIN:VTIMEZONE
TZID:Asia/Singapore
BEGIN:STANDARD
TZOFFSETFROM:+0800
TZOFFSETTO:+0800
TZNAME:+08
DTSTART:20180101T000000
END:STANDARD
END:VTIMEZONE
BEGIN:VEVENT
DTSTART;TZID=Asia/Singapore:20190208T093000
DTEND;TZID=Asia/Singapore:20190208T103000
DTSTAMP:20260425T212215
CREATED:20190207T025903Z
LAST-MODIFIED:20190207T025903Z
UID:25822-1549618200-1549621800@www.mbi.nus.edu.sg
SUMMARY:Flexible Microfluidic Wearable Technologies for Biomedical Applications by Lim Chwee Teck
DESCRIPTION:MBI Weekly Meeting Seminar\nTime: 9.30am-10.30am\nDate: Friday\, 8 February 2019\nVenue: Level 5 Seminar Room\, T-Lab \nFlexible Microfluidic Wearable Technologies for Biomedical Applications\nBy Prof. Lim Chwee Teck\, Professor\, Mechanobiology Institute\, National University of Singapore
URL:https://www.mbi.nus.edu.sg/event/flexible-microfluidic-wearable-technologies-for-biomedical-applications-by-lim-chwee-teck/
LOCATION:MBI Seminar Room Lvl 5\, T-Lab\, Level 5\, 5A Engineering Drive 1\, Mechanobiology Institute\, National University of Singapore\, 117411\, Singapore
CATEGORIES:MBI Weekly Seminar
END:VEVENT
BEGIN:VEVENT
DTSTART;TZID=Asia/Singapore:20190215T093000
DTEND;TZID=Asia/Singapore:20190215T103000
DTSTAMP:20260425T212215
CREATED:20190211T080530Z
LAST-MODIFIED:20190212T084254Z
UID:25850-1550223000-1550226600@www.mbi.nus.edu.sg
SUMMARY:MBIw: Looking backward to the future by Linda J Kenney
DESCRIPTION:MBI Weekly Meeting Seminar\nTime: 9.30am-10.30am\nDate: Friday\, 15 February 2019\nVenue: Level 5 Seminar Room\, T-Lab \nLooking backward to the future\nBy Prof. Linda J Kenney\, Professor\, Mechanobiology Institute\, National University of Singapore
URL:https://www.mbi.nus.edu.sg/event/looking-backward-to-the-future-by-linda-j-kenney/
LOCATION:MBI Seminar Room Lvl 5\, T-Lab\, Level 5\, 5A Engineering Drive 1\, Mechanobiology Institute\, National University of Singapore\, 117411\, Singapore
CATEGORIES:MBI Weekly Seminar
END:VEVENT
END:VCALENDAR