BEGIN:VCALENDAR
VERSION:2.0
PRODID:-//Mechanobiology Institute, National University of Singapore - ECPv6.15.12.2//NONSGML v1.0//EN
CALSCALE:GREGORIAN
METHOD:PUBLISH
X-WR-CALNAME:Mechanobiology Institute, National University of Singapore
X-ORIGINAL-URL:https://www.mbi.nus.edu.sg
X-WR-CALDESC:Events for Mechanobiology Institute, National University of Singapore
REFRESH-INTERVAL;VALUE=DURATION:PT1H
X-Robots-Tag:noindex
X-PUBLISHED-TTL:PT1H
BEGIN:VTIMEZONE
TZID:Asia/Singapore
BEGIN:STANDARD
TZOFFSETFROM:+0800
TZOFFSETTO:+0800
TZNAME:+08
DTSTART:20240101T000000
END:STANDARD
END:VTIMEZONE
BEGIN:VEVENT
DTSTART;TZID=Asia/Singapore:20250312T150000
DTEND;TZID=Asia/Singapore:20250312T160000
DTSTAMP:20260425T210824
CREATED:20250309T151837Z
LAST-MODIFIED:20250309T151837Z
UID:42719-1741791600-1741795200@www.mbi.nus.edu.sg
SUMMARY:SPSS
DESCRIPTION:MBI Student and Postdoc Seminar Series (SPSS)\nDate: 12 Mar 2025\, Wednesday\nTime: 3pm\nVenue: T-lab Level 5 Seminar Room \nMicrotubule-Integrin Adhesion Coupling: Controlling Myofibril Architecture and Cancer Cell Migration\nBy Srinivas Sheshagiri Prabhu\, PhD student\, Low Group & Bershadsky Group \nHomer1 Tetramer Assembly Pathway and Its Mechanical Stability.\nBy Deng Yunxin\, Research Fellow\, Yan Jie Group \nPlease note this event is open to MBI researchers and invited guests only.
URL:https://www.mbi.nus.edu.sg/event/spss-105/
LOCATION:MBI Seminar Room Lvl 5\, T-Lab\, Level 5\, 5A Engineering Drive 1\, Mechanobiology Institute\, National University of Singapore\, 117411\, Singapore
CATEGORIES:MBI Student & Postdoc Seminar
END:VEVENT
BEGIN:VEVENT
DTSTART;TZID=Asia/Singapore:20250319T150000
DTEND;TZID=Asia/Singapore:20250319T160000
DTSTAMP:20260425T210824
CREATED:20250309T152156Z
LAST-MODIFIED:20250309T152156Z
UID:42721-1742396400-1742400000@www.mbi.nus.edu.sg
SUMMARY:SPSS
DESCRIPTION:MBI Student and Postdoc Seminar Series (SPSS)\nDate: 19 Mar 2025\, Wednesday\nTime: 3pm\nVenue: T-lab Level 5 Seminar Room \nTalk Title Tbc\nBy Lim Yuan Bin\, PhD Student\, Toyama Group\, Holle Group \nTalk Title Tbc\nBy Jyothsna Vasudevan\, Research Fellow\, Pavesi Group \nPlease note this event is open to MBI researchers and invited guests only.
URL:https://www.mbi.nus.edu.sg/event/spss-106/
LOCATION:MBI Seminar Room Lvl 5\, T-Lab\, Level 5\, 5A Engineering Drive 1\, Mechanobiology Institute\, National University of Singapore\, 117411\, Singapore
CATEGORIES:MBI Student & Postdoc Seminar
END:VEVENT
BEGIN:VEVENT
DTSTART;TZID=Asia/Singapore:20250326T150000
DTEND;TZID=Asia/Singapore:20250326T160000
DTSTAMP:20260425T210824
CREATED:20250309T152356Z
LAST-MODIFIED:20250309T152356Z
UID:42723-1743001200-1743004800@www.mbi.nus.edu.sg
SUMMARY:SPSS
DESCRIPTION:MBI Student and Postdoc Seminar Series (SPSS)\nDate: 26 Mar 2025\, Wednesday\nTime: 3pm\nVenue: T-lab Level 5 Seminar Room \nTalk Title Tbc\nBy Ang Jing Wen\, PhD student\, Low Group \nTracking single molecule dynamics of integrins in focal adhesions and beyond\nBy Ryosuke Nishimura\, Research Fellow\, Kanchanawong Group \nPlease note this event is open to MBI researchers and invited guests only.
URL:https://www.mbi.nus.edu.sg/event/spss-107/
LOCATION:MBI Seminar Room Lvl 5\, T-Lab\, Level 5\, 5A Engineering Drive 1\, Mechanobiology Institute\, National University of Singapore\, 117411\, Singapore
CATEGORIES:MBI Student & Postdoc Seminar
END:VEVENT
END:VCALENDAR