BEGIN:VCALENDAR
VERSION:2.0
PRODID:-//Mechanobiology Institute, National University of Singapore - ECPv6.15.12.2//NONSGML v1.0//EN
CALSCALE:GREGORIAN
METHOD:PUBLISH
X-WR-CALNAME:Mechanobiology Institute, National University of Singapore
X-ORIGINAL-URL:https://www.mbi.nus.edu.sg
X-WR-CALDESC:Events for Mechanobiology Institute, National University of Singapore
REFRESH-INTERVAL;VALUE=DURATION:PT1H
X-Robots-Tag:noindex
X-PUBLISHED-TTL:PT1H
BEGIN:VTIMEZONE
TZID:UTC
BEGIN:STANDARD
TZOFFSETFROM:+0000
TZOFFSETTO:+0000
TZNAME:UTC
DTSTART:20220101T000000
END:STANDARD
END:VTIMEZONE
BEGIN:VEVENT
DTSTART;TZID=UTC:20230606T100000
DTEND;TZID=UTC:20230606T110000
DTSTAMP:20260426T104230
CREATED:20230117T060437Z
LAST-MODIFIED:20230525T031616Z
UID:36646-1686045600-1686049200@www.mbi.nus.edu.sg
SUMMARY:SPSS
DESCRIPTION:MBI Student and Postdoc Seminar Series (SPSS)\nDate: 6 June 2023\, Tuesday\nTime: 10am\nVenue: T-lab Level 5 Seminar Room \nInvestigating the role of theca cell mechanosensing during ovarian follicle development\nBy Ng Boon Heng\, PhD Student\, Chan Group \nProtein aggregates in cardiomyocyte\nBy Shu Chang\, PhD Student\, Li Group \nFind Help\nNon MBI staff who are interested in attending should contact Qiao Jing at mbilqj@nus.edu.sg.
URL:https://www.mbi.nus.edu.sg/event/spss-39/
LOCATION:MBI Seminar Room Lvl 5\, T-Lab\, Level 5\, 5A Engineering Drive 1\, Mechanobiology Institute\, National University of Singapore\, 117411\, Singapore
CATEGORIES:MBI Student & Postdoc Seminar
END:VEVENT
BEGIN:VEVENT
DTSTART;TZID=UTC:20230613T100000
DTEND;TZID=UTC:20230613T110000
DTSTAMP:20260426T104230
CREATED:20230117T072308Z
LAST-MODIFIED:20230606T060326Z
UID:36649-1686650400-1686654000@www.mbi.nus.edu.sg
SUMMARY:SPSS
DESCRIPTION:MBI Student and Postdoc Seminar Series (SPSS)\nDate: 13 June 2023\, Tuesday\nTime: 10am\nVenue: T-lab Level 5 Seminar Room \nMapping biophysical properties of endomembrane systems by single-molecule imaging\nBy Huang Zengxin\, PhD Student\, Kanchanawong Group \nP-cadherin endosomal signalling regulates cytoplasmic and mitotic spindle actin cytoskeleton\nBy Kedsarin Fong Ngern\, Research Fellow\, Kanchanawong Group \nFind Help\nNon MBI staff who are interested in attending should contact Qiao Jing at mbilqj@nus.edu.sg.
URL:https://www.mbi.nus.edu.sg/event/spss-40/
LOCATION:MBI Seminar Room Lvl 5\, T-Lab\, Level 5\, 5A Engineering Drive 1\, Mechanobiology Institute\, National University of Singapore\, 117411\, Singapore
CATEGORIES:MBI Student & Postdoc Seminar
END:VEVENT
BEGIN:VEVENT
DTSTART;TZID=UTC:20230620T100000
DTEND;TZID=UTC:20230620T110000
DTSTAMP:20260426T104230
CREATED:20230117T090737Z
LAST-MODIFIED:20230605T075903Z
UID:36651-1687255200-1687258800@www.mbi.nus.edu.sg
SUMMARY:SPSS
DESCRIPTION:MBI Student and Postdoc Seminar Series (SPSS)\nDate: 20 June 2023\, Tuesday\nTime: 10am\nVenue: T-lab Level 5 Seminar Room \nCrosstalk between Cadherins and Receptor Tyrosine Kinases (RTKs) at cell-cell adhesions\nBy Modhura Ganguly\, PhD Student\, Viasnoff Group \nFind Help\nNon MBI staff who are interested in attending should contact Qiao Jing at mbilqj@nus.edu.sg.
URL:https://www.mbi.nus.edu.sg/event/spss-41/
LOCATION:MBI Seminar Room Lvl 5\, T-Lab\, Level 5\, 5A Engineering Drive 1\, Mechanobiology Institute\, National University of Singapore\, 117411\, Singapore
CATEGORIES:MBI Student & Postdoc Seminar
END:VEVENT
BEGIN:VEVENT
DTSTART;TZID=UTC:20230627T100000
DTEND;TZID=UTC:20230627T110000
DTSTAMP:20260426T104230
CREATED:20230118T093330Z
LAST-MODIFIED:20230622T090844Z
UID:36672-1687860000-1687863600@www.mbi.nus.edu.sg
SUMMARY:SPSS
DESCRIPTION:MBI Student and Postdoc Seminar Series (SPSS)\nDate: 27 Jun 2023\, Tuesday\nTime: 10am\nVenue: T-lab Level 5 Seminar Room \nExtracellular matrix structure-stiffness relationships in cardiac aging\nBy Muhammad Faris Hazwan Bin Ramli\, PhD Student\, Young Group \nMechanobiology of Retinal Pigmented Epithelial cell phagocytosis: the impact of aging\nBy Xu Mengqing\, PhD Student\, Kanchanawong Group\, Toyama Group \nFind Help\nNon MBI staff who are interested in attending should contact Qiao Jing at mbilqj@nus.edu.sg.
URL:https://www.mbi.nus.edu.sg/event/spss-43/
LOCATION:MBI Seminar Room Lvl 5\, T-Lab\, Level 5\, 5A Engineering Drive 1\, Mechanobiology Institute\, National University of Singapore\, 117411\, Singapore
CATEGORIES:MBI Student & Postdoc Seminar
END:VEVENT
END:VCALENDAR