BEGIN:VCALENDAR
VERSION:2.0
PRODID:-//Mechanobiology Institute, National University of Singapore - ECPv6.15.12.2//NONSGML v1.0//EN
CALSCALE:GREGORIAN
METHOD:PUBLISH
X-WR-CALNAME:Mechanobiology Institute, National University of Singapore
X-ORIGINAL-URL:https://www.mbi.nus.edu.sg
X-WR-CALDESC:Events for Mechanobiology Institute, National University of Singapore
REFRESH-INTERVAL;VALUE=DURATION:PT1H
X-Robots-Tag:noindex
X-PUBLISHED-TTL:PT1H
BEGIN:VTIMEZONE
TZID:UTC
BEGIN:STANDARD
TZOFFSETFROM:+0000
TZOFFSETTO:+0000
TZNAME:UTC
DTSTART:20220101T000000
END:STANDARD
END:VTIMEZONE
BEGIN:VEVENT
DTSTART;TZID=UTC:20230502T100000
DTEND;TZID=UTC:20230502T110000
DTSTAMP:20260423T231602
CREATED:20230116T061856Z
LAST-MODIFIED:20230424T030057Z
UID:36633-1683021600-1683025200@www.mbi.nus.edu.sg
SUMMARY:SPSS
DESCRIPTION:MBI Student and Postdoc Seminar Series (SPSS)\nDate: 2 May 2023\, Tuesday\nTime: 10am\nVenue: T-lab Level 5 Seminar Room \nBNIP-2 Regulation of Mechanosignaling in Cardiac Aging\nBy Ang Jing Wen\, PhD student\, Low Group \nMechanical memory influences confined migration\nBy Lee Jia Wen Nicole\, PhD Student\, Holle Group \nFind Help\nNon MBI staff who are interested in attending should contact Qiao Jing at mbilqj@nus.edu.sg.
URL:https://www.mbi.nus.edu.sg/event/spss-34/
LOCATION:MBI Seminar Room Lvl 5\, T-Lab\, Level 5\, 5A Engineering Drive 1\, Mechanobiology Institute\, National University of Singapore\, 117411\, Singapore
CATEGORIES:MBI Student & Postdoc Seminar
END:VEVENT
BEGIN:VEVENT
DTSTART;TZID=UTC:20230509T100000
DTEND;TZID=UTC:20230509T110000
DTSTAMP:20260423T231602
CREATED:20230116T062132Z
LAST-MODIFIED:20230510T024847Z
UID:36635-1683626400-1683630000@www.mbi.nus.edu.sg
SUMMARY:SPSS
DESCRIPTION:MBI Student and Postdoc Seminar Series (SPSS)\nDate: 9 May 2023\, Tuesday\nTime: 10am\nVenue: T-lab Level 5 Seminar Room \nMultiscale extracellular matrix properties influence cancer cell chemoresistance.\nBy Chen Dixiao\, PhD Student\, Young Group \nFind Help\nNon MBI staff who are interested in attending should contact Qiao Jing at mbilqj@nus.edu.sg.
URL:https://www.mbi.nus.edu.sg/event/spss-35/
LOCATION:MBI Seminar Room Lvl 5\, T-Lab\, Level 5\, 5A Engineering Drive 1\, Mechanobiology Institute\, National University of Singapore\, 117411\, Singapore
CATEGORIES:MBI Student & Postdoc Seminar
END:VEVENT
BEGIN:VEVENT
DTSTART;TZID=UTC:20230516T100000
DTEND;TZID=UTC:20230516T110000
DTSTAMP:20260423T231602
CREATED:20230116T062407Z
LAST-MODIFIED:20230510T024930Z
UID:36638-1684231200-1684234800@www.mbi.nus.edu.sg
SUMMARY:SPSS
DESCRIPTION:MBI Student and Postdoc Seminar Series (SPSS)\nDate: 16 May 2023\, Tuesday\nTime: 10am\nVenue: T-lab Level 5 Seminar Room \nHybrid Hydrogel-Decellularized Cardiac ECM Scaffold for Elucidating Matrix-Mediated Fibroblast Function\nBy Sun Rui (Avery)\,PhD Student\, Young Group \nMAMMALIAN ANEUPLOID CELLS EXPERIENCE A HYPO-OSMOTIC STRESS\nBy Cui Hongyue\, PhD Student\, Li Group \nFind Help\nNon MBI staff who are interested in attending should contact Qiao Jing at mbilqj@nus.edu.sg.
URL:https://www.mbi.nus.edu.sg/event/spss-36/
LOCATION:MBI Seminar Room Lvl 5\, T-Lab\, Level 5\, 5A Engineering Drive 1\, Mechanobiology Institute\, National University of Singapore\, 117411\, Singapore
CATEGORIES:MBI Student & Postdoc Seminar
END:VEVENT
BEGIN:VEVENT
DTSTART;TZID=UTC:20230523T100000
DTEND;TZID=UTC:20230523T110000
DTSTAMP:20260423T231602
CREATED:20230117T055813Z
LAST-MODIFIED:20230522T075953Z
UID:36642-1684836000-1684839600@www.mbi.nus.edu.sg
SUMMARY:SPSS
DESCRIPTION:MBI Student and Postdoc Seminar Series (SPSS)\nDate: 23 May 2023\, Tuesday\nTime: 10am\nVenue: T-lab Level 5 Seminar Room \nThe role of confined migration in controlling stem cell fate\nBy Gao Xu\, PhD Student\, Holle Group \nFind Help\nNon MBI staff who are interested in attending should contact Qiao Jing at mbilqj@nus.edu.sg.
URL:https://www.mbi.nus.edu.sg/event/spss-37/
LOCATION:MBI Seminar Room Lvl 5\, T-Lab\, Level 5\, 5A Engineering Drive 1\, Mechanobiology Institute\, National University of Singapore\, 117411\, Singapore
CATEGORIES:MBI Student & Postdoc Seminar
END:VEVENT
BEGIN:VEVENT
DTSTART;TZID=UTC:20230530T100000
DTEND;TZID=UTC:20230530T110000
DTSTAMP:20260423T231602
CREATED:20230117T060224Z
LAST-MODIFIED:20230524T034706Z
UID:36644-1685440800-1685444400@www.mbi.nus.edu.sg
SUMMARY:SPSS
DESCRIPTION:MBI Student and Postdoc Seminar Series (SPSS)\nDate: 30 May 2023\, Tuesday\nTime: 10am\nVenue: T-lab Level 5 Seminar Room \nChromatin adaptation to confinement during microchannel-based cell migration\nBy Li Yixuan\, PhD Student\, Holle Group \nThe Mechanical Responses and Interactions of Talin.\nBy Guo Yanyu\, PhD Student\, Yan Jie Group \nFind Help\nNon MBI staff who are interested in attending should contact Qiao Jing at mbilqj@nus.edu.sg.
URL:https://www.mbi.nus.edu.sg/event/spss-38/
LOCATION:MBI Seminar Room Lvl 5\, T-Lab\, Level 5\, 5A Engineering Drive 1\, Mechanobiology Institute\, National University of Singapore\, 117411\, Singapore
CATEGORIES:MBI Student & Postdoc Seminar
END:VEVENT
END:VCALENDAR