BEGIN:VCALENDAR
VERSION:2.0
PRODID:-//Mechanobiology Institute, National University of Singapore - ECPv6.15.12.2//NONSGML v1.0//EN
CALSCALE:GREGORIAN
METHOD:PUBLISH
X-ORIGINAL-URL:https://www.mbi.nus.edu.sg
X-WR-CALDESC:Events for Mechanobiology Institute, National University of Singapore
REFRESH-INTERVAL;VALUE=DURATION:PT1H
X-Robots-Tag:noindex
X-PUBLISHED-TTL:PT1H
BEGIN:VTIMEZONE
TZID:UTC
BEGIN:STANDARD
TZOFFSETFROM:+0000
TZOFFSETTO:+0000
TZNAME:UTC
DTSTART:20220101T000000
END:STANDARD
END:VTIMEZONE
BEGIN:VEVENT
DTSTART;TZID=UTC:20230404T100000
DTEND;TZID=UTC:20230404T110000
DTSTAMP:20260424T003936
CREATED:20230109T063507Z
LAST-MODIFIED:20230329T034701Z
UID:36548-1680602400-1680606000@www.mbi.nus.edu.sg
SUMMARY:SPSS
DESCRIPTION:MBI Student and Postdoc Seminar Series (SPSS)\nDate: 4 Apr 2023\, Tuesday\nTime: 10am\nVenue: T-lab Level 5 Seminar Room \nMechanical control of mammalian ovarian secondary follicle development\nBy Arikta Biswas\, Research Fellow\, Chan Group \nAging-in-a-dish: Dynamic ECM-mimetic hydrogels\nBy Hepi Hari Susapto\, Research Fellow\, Young Group \nFind Help\nNon MBI staff who are interested in attending should contact Qiao Jing at mbilqj@nus.edu.sg.
URL:https://www.mbi.nus.edu.sg/event/spss-32/
LOCATION:MBI Seminar Room Lvl 5\, T-Lab\, Level 5\, 5A Engineering Drive 1\, Mechanobiology Institute\, National University of Singapore\, 117411\, Singapore
CATEGORIES:MBI Student & Postdoc Seminar
END:VEVENT
BEGIN:VEVENT
DTSTART;TZID=UTC:20230411T100000
DTEND;TZID=UTC:20230411T110000
DTSTAMP:20260424T003936
CREATED:20230116T061653Z
LAST-MODIFIED:20230116T061653Z
UID:36631-1681207200-1681210800@www.mbi.nus.edu.sg
SUMMARY:SPSS
DESCRIPTION:MBI Student and Postdoc Seminar Series (SPSS)\nDate: 11 Apr 2023\, Tuesday\nTime: 10am\nVenue: T-lab Level 5 Seminar Room \nTalk Title tbc\nBy Esra Karatas\, Research Fellow\, Beghin Group \nTalk Title tbc\nBy Stefan Mueller\, Research Fellow\, Li Group \nFind Help\nNon MBI staff who are interested in attending should contact Qiao Jing at mbilqj@nus.edu.sg.
URL:https://www.mbi.nus.edu.sg/event/spss-33/
LOCATION:MBI Seminar Room Lvl 5\, T-Lab\, Level 5\, 5A Engineering Drive 1\, Mechanobiology Institute\, National University of Singapore\, 117411\, Singapore
CATEGORIES:MBI Student & Postdoc Seminar
END:VEVENT
BEGIN:VEVENT
DTSTART;TZID=UTC:20230418T100000
DTEND;TZID=UTC:20230418T110000
DTSTAMP:20260424T003936
CREATED:20230410T063206Z
LAST-MODIFIED:20230420T082104Z
UID:37539-1681812000-1681815600@www.mbi.nus.edu.sg
SUMMARY:SPSS
DESCRIPTION:MBI Student and Postdoc Seminar Series (SPSS)\nDate: 18 Apr 2023\, Tuesday\nTime: 10am\nVenue: T-lab Level 5 Seminar Room \nScience Communication in MBI\nBy Tay Shu Chian\, Scientific Writer\, MBI Science Communications Unit \nFind Help\nNon MBI staff who are interested in attending should contact Qiao Jing at mbilqj@nus.edu.sg.
URL:https://www.mbi.nus.edu.sg/event/spss-59/
LOCATION:MBI Seminar Room Lvl 5\, T-Lab\, Level 5\, 5A Engineering Drive 1\, Mechanobiology Institute\, National University of Singapore\, 117411\, Singapore
CATEGORIES:MBI Student & Postdoc Seminar
END:VEVENT
END:VCALENDAR