BEGIN:VCALENDAR
VERSION:2.0
PRODID:-//Mechanobiology Institute, National University of Singapore - ECPv6.15.12.2//NONSGML v1.0//EN
CALSCALE:GREGORIAN
METHOD:PUBLISH
X-WR-CALNAME:Mechanobiology Institute, National University of Singapore
X-ORIGINAL-URL:https://www.mbi.nus.edu.sg
X-WR-CALDESC:Events for Mechanobiology Institute, National University of Singapore
REFRESH-INTERVAL;VALUE=DURATION:PT1H
X-Robots-Tag:noindex
X-PUBLISHED-TTL:PT1H
BEGIN:VTIMEZONE
TZID:UTC
BEGIN:STANDARD
TZOFFSETFROM:+0000
TZOFFSETTO:+0000
TZNAME:UTC
DTSTART:20220101T000000
END:STANDARD
END:VTIMEZONE
BEGIN:VEVENT
DTSTART;TZID=UTC:20230307T100000
DTEND;TZID=UTC:20230307T110000
DTSTAMP:20260423T195338
CREATED:20230109T061911Z
LAST-MODIFIED:20230306T034232Z
UID:36540-1678183200-1678186800@www.mbi.nus.edu.sg
SUMMARY:SPSS
DESCRIPTION:MBI Student and Postdoc Seminar Series (SPSS)\nDate: 7 Mar 2023\, Tuesday\nTime: 10am\nVenue: T-lab Level 5 Seminar Room \nSurface curvature and basal hydraulic stress induce spatial bias in cell extrusion\nBy Huang Cheng Kuang\, Research Fellow\, Lim Group \nPolymer physics framework to simulate subcellular phenomena\nBy Rakesh Das\, Research Fellow\, Hiraiwa Group\, Prost Group \nFind Help\nNon MBI staff who are interested in attending should contact Qiao Jing at mbilqj@nus.edu.sg.
URL:https://www.mbi.nus.edu.sg/event/spss-28/
LOCATION:MBI Seminar Room Lvl 5\, T-Lab\, Level 5\, 5A Engineering Drive 1\, Mechanobiology Institute\, National University of Singapore\, 117411\, Singapore
CATEGORIES:MBI Student & Postdoc Seminar
END:VEVENT
BEGIN:VEVENT
DTSTART;TZID=UTC:20230314T100000
DTEND;TZID=UTC:20230314T110000
DTSTAMP:20260423T195338
CREATED:20230109T062135Z
LAST-MODIFIED:20230109T062135Z
UID:36542-1678788000-1678791600@www.mbi.nus.edu.sg
SUMMARY:SPSS
DESCRIPTION:MBI Student and Postdoc Seminar Series (SPSS)\nDate: 14 Mar 2023\, Tuesday\nTime: 10am\nVenue: T-lab Level 5 Seminar Room \nTalk Title tbc\nBy Zhou Yu\, Research Fellow\, Yan Jie Group \nTalk Title tbc\nBy Wu Hongyi\, Research Fellow\, Li Group \nFind Help\nNon MBI staff who are interested in attending should contact Qiao Jing at mbilqj@nus.edu.sg.
URL:https://www.mbi.nus.edu.sg/event/spss-29/
LOCATION:MBI Seminar Room Lvl 5\, T-Lab\, Level 5\, 5A Engineering Drive 1\, Mechanobiology Institute\, National University of Singapore\, 117411\, Singapore
CATEGORIES:MBI Student & Postdoc Seminar
END:VEVENT
BEGIN:VEVENT
DTSTART;TZID=UTC:20230317T100000
DTEND;TZID=UTC:20230317T110000
DTSTAMP:20260423T195338
CREATED:20230314T054704Z
LAST-MODIFIED:20230314T054704Z
UID:37434-1679047200-1679050800@www.mbi.nus.edu.sg
SUMMARY:MBI Weekly Seminar
DESCRIPTION:MBI Weekly Seminar\nDate: 17 Mar 2023\, Friday\nTime: 10am\nVenue: Level 5 Seminar Room \nCan physics theory contribute to understanding dynamics in living organisms\nBy: Tetsuya Hiraiwa\, MBI Fellow\, Theoretical Physical Biology Group (Host: Chan Chii Jou) \nFind Help\nNon MBI staff who are interested in attending should contact Qiao Jing at mbilqj@nus.edu.sg for seminar details.
URL:https://www.mbi.nus.edu.sg/event/mbi-weekly-seminar-26/
LOCATION:MBI Seminar Room Lvl 5\, T-Lab\, Level 5\, 5A Engineering Drive 1\, Mechanobiology Institute\, National University of Singapore\, 117411\, Singapore
CATEGORIES:MBI Student & Postdoc Seminar
END:VEVENT
BEGIN:VEVENT
DTSTART;TZID=UTC:20230321T100000
DTEND;TZID=UTC:20230321T110000
DTSTAMP:20260423T195338
CREATED:20230109T062412Z
LAST-MODIFIED:20230315T070038Z
UID:36544-1679392800-1679396400@www.mbi.nus.edu.sg
SUMMARY:SPSS
DESCRIPTION:MBI Student and Postdoc Seminar Series (SPSS)\nDate: 21 Mar 2023\, Tuesday\nTime: 10am\nVenue: T-lab Level 5 Seminar Room \nMechanical stress on Organoids featuring High Content Screening device\, 3D Imaging and Machine Learning…or how to become a flying biologist\nBy Anne Beghin\, Research Assistant Professor\, Facility Manager\, Microscopy Core \nBriefing on Claims Submission\nBy Wu Yijing\, Finance Manager\, Office of Finance \nFind Help\nNon MBI staff who are interested in attending should contact Qiao Jing at mbilqj@nus.edu.sg.
URL:https://www.mbi.nus.edu.sg/event/spss-30/
LOCATION:MBI Seminar Room Lvl 5\, T-Lab\, Level 5\, 5A Engineering Drive 1\, Mechanobiology Institute\, National University of Singapore\, 117411\, Singapore
CATEGORIES:MBI Student & Postdoc Seminar
END:VEVENT
BEGIN:VEVENT
DTSTART;TZID=UTC:20230328T100000
DTEND;TZID=UTC:20230328T110000
DTSTAMP:20260423T195338
CREATED:20230109T062601Z
LAST-MODIFIED:20230322T075656Z
UID:36546-1679997600-1680001200@www.mbi.nus.edu.sg
SUMMARY:SPSS
DESCRIPTION:MBI Student and Postdoc Seminar Series (SPSS)\nDate: 28 Mar 2023\, Tuesday\nTime: 10am\nVenue: T-lab Level 5 Seminar Room \nDissecting the role of the tissue microenvironment in ovarian ageing and infertility\nBy Anna Jaeschke\, Research Fellow\, Chan Group \nFind Help\nNon MBI staff who are interested in attending should contact Qiao Jing at mbilqj@nus.edu.sg.
URL:https://www.mbi.nus.edu.sg/event/spss-31/
LOCATION:National University of Singapore
CATEGORIES:MBI Student & Postdoc Seminar
END:VEVENT
END:VCALENDAR