BEGIN:VCALENDAR
VERSION:2.0
PRODID:-//Mechanobiology Institute, National University of Singapore - ECPv6.15.12.2//NONSGML v1.0//EN
CALSCALE:GREGORIAN
METHOD:PUBLISH
X-ORIGINAL-URL:https://www.mbi.nus.edu.sg
X-WR-CALDESC:Events for Mechanobiology Institute, National University of Singapore
REFRESH-INTERVAL;VALUE=DURATION:PT1H
X-Robots-Tag:noindex
X-PUBLISHED-TTL:PT1H
BEGIN:VTIMEZONE
TZID:UTC
BEGIN:STANDARD
TZOFFSETFROM:+0000
TZOFFSETTO:+0000
TZNAME:UTC
DTSTART:20220101T000000
END:STANDARD
END:VTIMEZONE
BEGIN:VEVENT
DTSTART;TZID=UTC:20230214T100000
DTEND;TZID=UTC:20230214T110000
DTSTAMP:20260423T104432
CREATED:20230109T060221Z
LAST-MODIFIED:20230208T025318Z
UID:36531-1676368800-1676372400@www.mbi.nus.edu.sg
SUMMARY:SPSS
DESCRIPTION:MBI Student and Postdoc Seminar Series (SPSS)\nDate: 14 Feb 2023\, Tuesday\nTime: 10am\nVenue: T-lab Level 5 Seminar Room \nThree-dimensional liquid metal-based conformal neuro-interfaces for human hippocampal organoids\nBy Wu Yan\, PhD Student\, Low Group \nBiophysical principles of sensing the stiffness of extracellular matrix\nBy Liu Jingzhun\, PhD Student\, Yan Jie Group \nFind Help\nNon MBI staff who are interested in attending should contact Qiao Jing at mbilqj@nus.edu.sg.
URL:https://www.mbi.nus.edu.sg/event/spss-25/
LOCATION:MBI Seminar Room Lvl 5\, T-Lab\, Level 5\, 5A Engineering Drive 1\, Mechanobiology Institute\, National University of Singapore\, 117411\, Singapore
CATEGORIES:MBI Student & Postdoc Seminar
END:VEVENT
BEGIN:VEVENT
DTSTART;TZID=UTC:20230221T100000
DTEND;TZID=UTC:20230221T110000
DTSTAMP:20260423T104432
CREATED:20230109T061447Z
LAST-MODIFIED:20230215T081141Z
UID:36533-1676973600-1676977200@www.mbi.nus.edu.sg
SUMMARY:SPSS
DESCRIPTION:MBI Student and Postdoc Seminar Series (SPSS)\nDate: 21 Feb 2023\, Tuesday\nTime: 10am\nVenue: T-lab Level 5 Seminar Room \nRole of microtubules and their modifications in the integrin adhesion dependent mechano-signaling\nBy Deepika Singh\, PhD Student\, Viasnoff Group \nUnderstanding Contact Inhibition Locomotion Switching in Immune Cells of Drosophila Melanogaster\nBy Ignacius Tay Yan Yun\, PhD Student\, Toyama Group \nFind Help\nNon MBI staff who are interested in attending should contact Qiao Jing at mbilqj@nus.edu.sg.
URL:https://www.mbi.nus.edu.sg/event/spss-26/
LOCATION:MBI Seminar Room Lvl 5\, T-Lab\, Level 5\, 5A Engineering Drive 1\, Mechanobiology Institute\, National University of Singapore\, 117411\, Singapore
CATEGORIES:MBI Student & Postdoc Seminar
END:VEVENT
BEGIN:VEVENT
DTSTART;TZID=UTC:20230228T100000
DTEND;TZID=UTC:20230228T110000
DTSTAMP:20260423T104432
CREATED:20230109T061759Z
LAST-MODIFIED:20230221T015618Z
UID:36537-1677578400-1677582000@www.mbi.nus.edu.sg
SUMMARY:MBI Seminar
DESCRIPTION:MBI Seminar\nDate: 28 Feb 2023\, Tuesday\nTime: 10am\nVenue: T-lab Level 5 Seminar Room \nHow do forces transmitted from a cell’s environment affect DNA organization?\nBy Vivek Shenoy\, Center for Engineering Mechanobiology and School of Engineering and Applied Sciences\, University of Pennsylvania\, USA (Host:Prof Rong Li) \nFind Help\nNon MBI staff who are interested in attending should contact Qiao Jing at mbilqj@nus.edu.sg.
URL:https://www.mbi.nus.edu.sg/event/spss-27/
LOCATION:MBI Seminar Room Lvl 5\, T-Lab\, Level 5\, 5A Engineering Drive 1\, Mechanobiology Institute\, National University of Singapore\, 117411\, Singapore
CATEGORIES:MBI Student & Postdoc Seminar
END:VEVENT
END:VCALENDAR