BEGIN:VCALENDAR
VERSION:2.0
PRODID:-//Mechanobiology Institute, National University of Singapore - ECPv6.15.12.2//NONSGML v1.0//EN
CALSCALE:GREGORIAN
METHOD:PUBLISH
X-ORIGINAL-URL:https://www.mbi.nus.edu.sg
X-WR-CALDESC:Events for Mechanobiology Institute, National University of Singapore
REFRESH-INTERVAL;VALUE=DURATION:PT1H
X-Robots-Tag:noindex
X-PUBLISHED-TTL:PT1H
BEGIN:VTIMEZONE
TZID:UTC
BEGIN:STANDARD
TZOFFSETFROM:+0000
TZOFFSETTO:+0000
TZNAME:UTC
DTSTART:20210101T000000
END:STANDARD
END:VTIMEZONE
BEGIN:VEVENT
DTSTART;TZID=UTC:20221206T100000
DTEND;TZID=UTC:20221206T110000
DTSTAMP:20260423T064715
CREATED:20220714T031004Z
LAST-MODIFIED:20221129T023909Z
UID:34968-1670320800-1670324400@www.mbi.nus.edu.sg
SUMMARY:SPSS
DESCRIPTION:MBI Student and Postdoc Seminar Series (SPSS)\nDate: 6 Dec 2022\, Tuesday\nTime: 10am\nVenue: T-lab Level 5 Seminar Room \nSpatial control over stem cell differentiation and morphogenesis to understand early embryonic development\nBy Geetika Sahni\, Research Fellow\, Viasnoff Group \nThree dimensional super resolution microscopy by surface-generated interference\nBy Wang Wei\, Research Fellow\, Kanchanawong Group \n  \nFind Help\nNon MBI staff who are interested in attending should contact Qiao Jing at mbilqj@nus.edu.sg.
URL:https://www.mbi.nus.edu.sg/event/spss-21/
LOCATION:MBI Seminar Room Lvl 5\, T-Lab\, Level 5\, 5A Engineering Drive 1\, Mechanobiology Institute\, National University of Singapore\, 117411\, Singapore
CATEGORIES:MBI Student & Postdoc Seminar
END:VEVENT
BEGIN:VEVENT
DTSTART;TZID=UTC:20221213T100000
DTEND;TZID=UTC:20221213T110000
DTSTAMP:20260423T064715
CREATED:20221206T063519Z
LAST-MODIFIED:20221206T063519Z
UID:35710-1670925600-1670929200@www.mbi.nus.edu.sg
SUMMARY:SPSS
DESCRIPTION:MBI Student and Postdoc Seminar Series (SPSS)\nDate: 13 Dec 2022\, Tuesday\nTime: 10am\nVenue: T-lab Level 5 Seminar Room \nTalk Title tbc\nBy Lee Yaelim\, Research Fellow\, Shivashankar Group\, Li Group \nTalk Title tbc\nBy Zhong Xueying\, PhD Student\, Kanchanawong Group \n  \nFind Help\nNon MBI staff who are interested in attending should contact Qiao Jing at mbilqj@nus.edu.sg.
URL:https://www.mbi.nus.edu.sg/event/spss-14/
LOCATION:MBI Seminar Room Lvl 5\, T-Lab\, Level 5\, 5A Engineering Drive 1\, Mechanobiology Institute\, National University of Singapore\, 117411\, Singapore
CATEGORIES:MBI Student & Postdoc Seminar
END:VEVENT
END:VCALENDAR