BEGIN:VCALENDAR
VERSION:2.0
PRODID:-//Mechanobiology Institute, National University of Singapore - ECPv6.15.12.2//NONSGML v1.0//EN
CALSCALE:GREGORIAN
METHOD:PUBLISH
X-ORIGINAL-URL:https://www.mbi.nus.edu.sg
X-WR-CALDESC:Events for Mechanobiology Institute, National University of Singapore
REFRESH-INTERVAL;VALUE=DURATION:PT1H
X-Robots-Tag:noindex
X-PUBLISHED-TTL:PT1H
BEGIN:VTIMEZONE
TZID:Asia/Shanghai
BEGIN:STANDARD
TZOFFSETFROM:+0800
TZOFFSETTO:+0800
TZNAME:CST
DTSTART:20160101T000000
END:STANDARD
END:VTIMEZONE
BEGIN:VEVENT
DTSTART;TZID=Asia/Shanghai:20170502T093000
DTEND;TZID=Asia/Shanghai:20170502T100000
DTSTAMP:20260419T210610
CREATED:20170502T065944Z
LAST-MODIFIED:20170502T070126Z
UID:18732-1493717400-1493719200@www.mbi.nus.edu.sg
SUMMARY:DNA Damage Causes Rapid Accumulation of Phosphoinositides for ATR Signaling – A role of unclear nuclear lipids by Eric Wang
DESCRIPTION:Please be informed of SPSS Meeting Seminar @ 9.30am on 2 May at Level 5 Seminar Room. \nPresenter 1: Eric Wang\nTalk Title: DNA Damage Causes Rapid Accumulation of Phosphoinositides for ATR Signaling – A role of unclear nuclear lipids
URL:https://www.mbi.nus.edu.sg/event/18732/
LOCATION:MBI Seminar Room Lvl 5\, T-Lab\, Level 5\, 5A Engineering Drive 1\, Mechanobiology Institute\, National University of Singapore\, 117411\, Singapore
CATEGORIES:MBI Student & Postdoc Seminar
END:VEVENT
BEGIN:VEVENT
DTSTART;TZID=Asia/Shanghai:20170509T093000
DTEND;TZID=Asia/Shanghai:20170509T100000
DTSTAMP:20260419T210610
CREATED:20170508T031407Z
LAST-MODIFIED:20170508T031407Z
UID:18912-1494322200-1494324000@www.mbi.nus.edu.sg
SUMMARY:Be like a duck. Calm on the surface\, but always... by Sun Zijun
DESCRIPTION:Please be informed of SPSS Meeting Seminar @ 9.30am on 9 May at Level 5 Seminar Room.  \nPresenter 1: Sun Zijun\nTalk Title: Be like a duck. Calm on the surface\, but always…
URL:https://www.mbi.nus.edu.sg/event/be-like-a-duck-calm-on-the-surface-but-always-by-sun-zijun/
LOCATION:MBI Seminar Room Lvl 5\, T-Lab\, Level 5\, 5A Engineering Drive 1\, Mechanobiology Institute\, National University of Singapore\, 117411\, Singapore
CATEGORIES:MBI Student & Postdoc Seminar
END:VEVENT
BEGIN:VEVENT
DTSTART;TZID=Asia/Shanghai:20170516T093000
DTEND;TZID=Asia/Shanghai:20170516T100000
DTSTAMP:20260419T210610
CREATED:20170509T100337Z
LAST-MODIFIED:20181005T073848Z
UID:19006-1494927000-1494928800@www.mbi.nus.edu.sg
SUMMARY:MBI SPSS: Large-scale curvature sensing by directional actin flow drives cellular migration mode switching Chen Tianchi
DESCRIPTION:Please be informed of SPSS Meeting Seminar @ 9.30am on 16 May at Level 5 Seminar Room. \nPresenter 1: Chen Tianchi\nTalk Title: Large-scale curvature sensing by directional actin flow drives cellular migration mode switching
URL:https://www.mbi.nus.edu.sg/event/large-scale-curvature-sensing-by-directional-actin-flow-drives-cellular-migration-mode-switching-chen-tianchi/
LOCATION:MBI Seminar Room Lvl 5\, T-Lab\, Level 5\, 5A Engineering Drive 1\, Mechanobiology Institute\, National University of Singapore\, 117411\, Singapore
CATEGORIES:MBI Student & Postdoc Seminar
END:VEVENT
BEGIN:VEVENT
DTSTART;TZID=Asia/Shanghai:20170523T093000
DTEND;TZID=Asia/Shanghai:20170523T103000
DTSTAMP:20260419T210610
CREATED:20170517T020653Z
LAST-MODIFIED:20170517T020653Z
UID:19107-1495531800-1495535400@www.mbi.nus.edu.sg
SUMMARY:Collective behaviour of endocytic machinery and its cross-talk with cortical waves by Yang Yang
DESCRIPTION:Please be informed of SPSS Meeting Seminar @ 9.30am on 23 May at Level 5 Seminar Room. \nPresenter 1: Yang Yang \nTalk Title: Collective behaviour of endocytic machinery and its cross-talk with cortical waves \n 
URL:https://www.mbi.nus.edu.sg/event/collective-behaviour-of-endocytic-machinery-and-its-cross-talk-with-cortical-waves-by-yang-yang/
LOCATION:MBI Seminar Room Lvl 5\, T-Lab\, Level 5\, 5A Engineering Drive 1\, Mechanobiology Institute\, National University of Singapore\, 117411\, Singapore
CATEGORIES:MBI Student & Postdoc Seminar
END:VEVENT
BEGIN:VEVENT
DTSTART;TZID=Asia/Shanghai:20170530T093000
DTEND;TZID=Asia/Shanghai:20170530T100000
DTSTAMP:20260419T210610
CREATED:20170524T012802Z
LAST-MODIFIED:20170524T012802Z
UID:19253-1496136600-1496138400@www.mbi.nus.edu.sg
SUMMARY:Actomyosin contractility of an extracellular tube regulates the structural integrity of the syncytium germline in C. elegans by Agarwal Priti
DESCRIPTION:Please be informed of SPSS Meeting Seminar @ 9.30am on 30 May at Level 5 Seminar Room.  \nPresenter 1: Agarwal Priti \nTalk Title: Actomyosin contractility of an extracellular tube regulates the structural integrity of the syncytium germline in C. elegans \n 
URL:https://www.mbi.nus.edu.sg/event/actomyosin-contractility-of-an-extracellular-tube-regulates-the-structural-integrity-of-the-syncytium-germline-in-c-elegans-by-agarwal-priti/
LOCATION:MBI Seminar Room Lvl 5\, T-Lab\, Level 5\, 5A Engineering Drive 1\, Mechanobiology Institute\, National University of Singapore\, 117411\, Singapore
CATEGORIES:MBI Student & Postdoc Seminar
END:VEVENT
BEGIN:VEVENT
DTSTART;TZID=Asia/Shanghai:20170530T093000
DTEND;TZID=Asia/Shanghai:20170530T100000
DTSTAMP:20260419T210610
CREATED:20170531T013638Z
LAST-MODIFIED:20170531T013638Z
UID:19440-1496136600-1496138400@www.mbi.nus.edu.sg
SUMMARY:Actomyosin contractility of an extracellular tube regulates the structural integrity of the syncytium germline in C. elegans by Agarwal Priti
DESCRIPTION:Please be informed of SPSS Meeting Seminar @ 9.30am on 30 May at Level 5 Seminar Room. \nPresenter 1: Agarwal Priti \nTalk Title: Actomyosin contractility of an extracellular tube regulates the structural integrity of the syncytium germline in C. elegans \n  \n 
URL:https://www.mbi.nus.edu.sg/event/actomyosin-contractility-of-an-extracellular-tube-regulates-the-structural-integrity-of-the-syncytium-germline-in-c-elegans-by-agarwal-priti-2/
LOCATION:MBI Seminar Room Lvl 5\, T-Lab\, Level 5\, 5A Engineering Drive 1\, Mechanobiology Institute\, National University of Singapore\, 117411\, Singapore
CATEGORIES:MBI Student & Postdoc Seminar
END:VEVENT
END:VCALENDAR