BEGIN:VCALENDAR
VERSION:2.0
PRODID:-//Mechanobiology Institute, National University of Singapore - ECPv6.15.12.2//NONSGML v1.0//EN
CALSCALE:GREGORIAN
METHOD:PUBLISH
X-WR-CALNAME:Mechanobiology Institute, National University of Singapore
X-ORIGINAL-URL:https://www.mbi.nus.edu.sg
X-WR-CALDESC:Events for Mechanobiology Institute, National University of Singapore
REFRESH-INTERVAL;VALUE=DURATION:PT1H
X-Robots-Tag:noindex
X-PUBLISHED-TTL:PT1H
BEGIN:VTIMEZONE
TZID:Asia/Singapore
BEGIN:STANDARD
TZOFFSETFROM:+0800
TZOFFSETTO:+0800
TZNAME:+08
DTSTART:20230101T000000
END:STANDARD
END:VTIMEZONE
BEGIN:VEVENT
DTSTART;TZID=Asia/Singapore:20241119T140000
DTEND;TZID=Asia/Singapore:20241119T150000
DTSTAMP:20260420T003735
CREATED:20241119T014208Z
LAST-MODIFIED:20241119T014208Z
UID:41839-1732024800-1732028400@www.mbi.nus.edu.sg
SUMMARY:MBI Seminar
DESCRIPTION:MBI Seminar\nDate: 19 November 2024\, Tuesday\nTime: 2 PM\nVenue: L5 Seminar Room \nFrom Static to Reconfigurable Microfluidics in the µFluCF at Heidelberg University\nBy: Sadaf Pashapour\, Senior Scientist & Project Leader\, Microfabrication and Microfluidics Core Facility\, Heidelberg University (Host: Andrew Holle) \nFind Help\nNon-MBI staff who are interested in attending should contact Lois at loisyaw@nus.edu.sg.
URL:https://www.mbi.nus.edu.sg/event/mbi-seminar-60/
LOCATION:MBI Seminar Room Lvl 5\, T-Lab\, Level 5\, 5A Engineering Drive 1\, Mechanobiology Institute\, National University of Singapore\, 117411\, Singapore
CATEGORIES:MBI Seminar
END:VEVENT
END:VCALENDAR