BEGIN:VCALENDAR
VERSION:2.0
PRODID:-//Mechanobiology Institute, National University of Singapore - ECPv6.15.12.2//NONSGML v1.0//EN
CALSCALE:GREGORIAN
METHOD:PUBLISH
X-ORIGINAL-URL:https://www.mbi.nus.edu.sg
X-WR-CALDESC:Events for Mechanobiology Institute, National University of Singapore
REFRESH-INTERVAL;VALUE=DURATION:PT1H
X-Robots-Tag:noindex
X-PUBLISHED-TTL:PT1H
BEGIN:VTIMEZONE
TZID:Asia/Singapore
BEGIN:STANDARD
TZOFFSETFROM:+0800
TZOFFSETTO:+0800
TZNAME:+08
DTSTART:20230101T000000
END:STANDARD
END:VTIMEZONE
BEGIN:VEVENT
DTSTART;TZID=Asia/Singapore:20240403T150000
DTEND;TZID=Asia/Singapore:20240403T160000
DTSTAMP:20260420T043808
CREATED:20240229T042543Z
LAST-MODIFIED:20240229T042543Z
UID:39937-1712156400-1712160000@www.mbi.nus.edu.sg
SUMMARY:MBI Seminar
DESCRIPTION:MBI Seminar\nDate: 3 April 2024\, Wednesday\nTime: 3 PM\nVenue: L5 Seminar Room \nDynamics of synaptic receptors in health and disease\nBy: Laurent Groc\, Director\, Interdisciplinary Institute for Neuroscience\, CRNS-University of Bordeaux\, Bordeaux\, France (Host: Virgile Viasnoff) \nFind Help\nNon-MBI staff who are interested in attending should contact Lois at loisyaw@nus.edu.sg.
URL:https://www.mbi.nus.edu.sg/event/mbi-seminar-45/
LOCATION:MBI Seminar Room Lvl 5\, T-Lab\, Level 5\, 5A Engineering Drive 1\, Mechanobiology Institute\, National University of Singapore\, 117411\, Singapore
CATEGORIES:MBI Seminar
END:VEVENT
BEGIN:VEVENT
DTSTART;TZID=Asia/Singapore:20240415T150000
DTEND;TZID=Asia/Singapore:20240415T160000
DTSTAMP:20260420T043808
CREATED:20240322T072801Z
LAST-MODIFIED:20240322T072801Z
UID:40474-1713193200-1713196800@www.mbi.nus.edu.sg
SUMMARY:MBI Seminar x MVP Studio
DESCRIPTION:MBI Seminar x MVP Studio\nDate: 15 April 2024\, Monday\nTime: 3.00 PM\nVenue: L5 Seminar Room \nNUS Minimum Viable Product (MVP) Studio: Propelling Research to Market\nBy: Andy Li\, MVP Studio\, Technology Transfer and Innovation\, NUS Enterprise (Host: Yan Jie) \nFind Help\nNon-MBI staff who are interested in attending should contact Lois at loisyaw@nus.edu.sg.
URL:https://www.mbi.nus.edu.sg/event/mbi-seminar-x-mvp-studio/
LOCATION:MBI Seminar Room Lvl 5\, T-Lab\, Level 5\, 5A Engineering Drive 1\, Mechanobiology Institute\, National University of Singapore\, 117411\, Singapore
CATEGORIES:MBI Seminar
END:VEVENT
BEGIN:VEVENT
DTSTART;TZID=Asia/Singapore:20240416T140000
DTEND;TZID=Asia/Singapore:20240416T153000
DTSTAMP:20260420T043808
CREATED:20240401T085749Z
LAST-MODIFIED:20240401T085749Z
UID:40529-1713276000-1713281400@www.mbi.nus.edu.sg
SUMMARY:MBI Seminar
DESCRIPTION:MBI Seminar\nDate: 16 April 2024\, Tuesday\nTime: 2 PM\nVenue: L5 Seminar Room \nEntropy-driven cellular response to mechanical cues\nBy: Ce Zhang\, Professor\, Institute of Photonics & Photon-Technology\, Northwest University\, Xi’an\, Shaanxi\, China (Host: Yan Jie) \nFind Help\nNon-MBI staff who are interested in attending should contact Lois at loisyaw@nus.edu.sg.
URL:https://www.mbi.nus.edu.sg/event/mbi-seminar-46/
LOCATION:MBI Seminar Room Lvl 5\, T-Lab\, Level 5\, 5A Engineering Drive 1\, Mechanobiology Institute\, National University of Singapore\, 117411\, Singapore
CATEGORIES:MBI Seminar
END:VEVENT
BEGIN:VEVENT
DTSTART;TZID=Asia/Singapore:20240417T110000
DTEND;TZID=Asia/Singapore:20240417T120000
DTSTAMP:20260420T043808
CREATED:20240415T062609Z
LAST-MODIFIED:20240415T062609Z
UID:40624-1713351600-1713355200@www.mbi.nus.edu.sg
SUMMARY:MBI Seminar
DESCRIPTION:MBI Seminar\nDate: 17 April 2024\, Wednesday\nTime: 11 AM\nVenue: L5 Seminar Room \nDisentangling complex roles of the extracellular matrix in cancer progression\nBy: Ramray Bhat\, Associate Professor\, Department of Bioengineering\, Indian Institute of Science\, Bangalore\, India (Host: Andrew Holle) \nFind Help\nNon-MBI staff who are interested in attending should contact Lois at loisyaw@nus.edu.sg.
URL:https://www.mbi.nus.edu.sg/event/mbi-seminar-47/
LOCATION:MBI Seminar Room Lvl 5\, T-Lab\, Level 5\, 5A Engineering Drive 1\, Mechanobiology Institute\, National University of Singapore\, 117411\, Singapore
CATEGORIES:MBI Seminar
END:VEVENT
BEGIN:VEVENT
DTSTART;TZID=Asia/Singapore:20240426T160000
DTEND;TZID=Asia/Singapore:20240426T170000
DTSTAMP:20260420T043808
CREATED:20240422T022439Z
LAST-MODIFIED:20240422T022439Z
UID:40649-1714147200-1714150800@www.mbi.nus.edu.sg
SUMMARY:MBI Seminar (Postdoctoral Recruitment Candidate)
DESCRIPTION:MBI Seminar (Postdoctoral Candidate Recruitment)\nDate: 26 April 2024\, Friday\nTime: 4 PM\nVenue: ZOOM \nEpidermal turnover in the planarian Schmidtea mediterranea involves basal cell extrusion and intestinal digestion\nBy: Lee Jun-Ru\, Postdoctoral Candidate (Host: Rong Li) \nFind Help\nNon-MBI staff who are interested in attending should contact Lois at loisyaw@nus.edu.sg.
URL:https://www.mbi.nus.edu.sg/event/mbi-seminar-postdoctoral-recruitment-candidate/
LOCATION:ZOOM webcast
CATEGORIES:MBI Seminar
END:VEVENT
BEGIN:VEVENT
DTSTART;TZID=Asia/Singapore:20240430T150000
DTEND;TZID=Asia/Singapore:20240430T160000
DTSTAMP:20260420T043808
CREATED:20240419T014550Z
LAST-MODIFIED:20240419T014550Z
UID:40633-1714489200-1714492800@www.mbi.nus.edu.sg
SUMMARY:MBI Seminar (Postdoctoral Candidate Recruitment)
DESCRIPTION:MBI Seminar (Postdoctoral Candidate Recruitment)\nDate: 30 April 2024\, Tuesday\nTime: 3 PM\nVenue: ZOOM \nProteomics in understanding the dynamics of the outer membrane proteome of Leptospira through subcellular protein mapping\nBy: Homen Phukan\, Hirashima Lab Postdoctoral Candidate (Host: Tsuyoshi Hirashima) \nFind Help\nNon-MBI staff who are interested in attending should contact Lois at loisyaw@nus.edu.sg.
URL:https://www.mbi.nus.edu.sg/event/mbi-seminar-postdoctoral-candidate-recruitment-2/
LOCATION:ZOOM webcast
CATEGORIES:MBI Seminar
END:VEVENT
END:VCALENDAR