BEGIN:VCALENDAR
VERSION:2.0
PRODID:-//Mechanobiology Institute, National University of Singapore - ECPv6.15.12.2//NONSGML v1.0//EN
CALSCALE:GREGORIAN
METHOD:PUBLISH
X-WR-CALNAME:Mechanobiology Institute, National University of Singapore
X-ORIGINAL-URL:https://www.mbi.nus.edu.sg
X-WR-CALDESC:Events for Mechanobiology Institute, National University of Singapore
REFRESH-INTERVAL;VALUE=DURATION:PT1H
X-Robots-Tag:noindex
X-PUBLISHED-TTL:PT1H
BEGIN:VTIMEZONE
TZID:Asia/Singapore
BEGIN:STANDARD
TZOFFSETFROM:+0800
TZOFFSETTO:+0800
TZNAME:+08
DTSTART:20180101T000000
END:STANDARD
END:VTIMEZONE
BEGIN:VEVENT
DTSTART;TZID=Asia/Singapore:20190801T110000
DTEND;TZID=Asia/Singapore:20190801T120000
DTSTAMP:20260420T025110
CREATED:20190729T081903Z
LAST-MODIFIED:20190729T081903Z
UID:27048-1564657200-1564660800@www.mbi.nus.edu.sg
SUMMARY:Microenvironmental cues\, oncogenic signaling and cell metabolism in cancer by Giannino Del Sal
DESCRIPTION:We are pleased to inform you on the seminar of Prof. Giannino Del Sal (hosted by Prof Shivashankar)\, “Microenvironmental cues\, oncogenic signaling and cell metabolism in cancer” on 1 August 2019 @11am at T-Lab Level 5 Seminar Rooms.
URL:https://www.mbi.nus.edu.sg/event/microenvironmental-cues-oncogenic-signaling-and-cell-metabolism-in-cancer-by-giannino-del-sal/
LOCATION:MBI Seminar Room Lvl 5\, T-Lab\, Level 5\, 5A Engineering Drive 1\, Mechanobiology Institute\, National University of Singapore\, 117411\, Singapore
CATEGORIES:MBI Seminar
END:VEVENT
BEGIN:VEVENT
DTSTART;TZID=Asia/Singapore:20190814T100000
DTEND;TZID=Asia/Singapore:20190814T110000
DTSTAMP:20260420T025110
CREATED:20190806T081112Z
LAST-MODIFIED:20190806T081615Z
UID:27098-1565776800-1565780400@www.mbi.nus.edu.sg
SUMMARY:Calcium-mediated actin reset (CaAR) mediates acute cell adaptations by Roland Wedlich-Söldner 
DESCRIPTION:MBI Seminar\nWe are pleased to inform you on the seminar of Prof. Roland Wedlich-Söldner (hosted by Prof. Rong Li) from Institute of Cell Dynamics and Imaging\, “Calcium-mediated actin reset (CaAR) mediates acute cell adaptations” on 14 Aug (Wed) @ 10am at T-Lab Level 5 Seminar Rooms. \nProf. Wedlich-Söldner’s research interests\n\nCellular Polarization and Changes in Cell Shape\nFunctional membrane domains in neuronal and non-neuronal compartmentalization\nMotion Analysis in Cellular Systems\nFormation and Properties of Epithelial and Endothelial Barriers
URL:https://www.mbi.nus.edu.sg/event/calcium-mediated-actin-reset-caar-mediates-acute-cell-adaptations-by-roland-wedlich-soldner/
LOCATION:MBI Seminar Room Lvl 5\, T-Lab\, Level 5\, 5A Engineering Drive 1\, Mechanobiology Institute\, National University of Singapore\, 117411\, Singapore
CATEGORIES:MBI Seminar
END:VEVENT
END:VCALENDAR