BEGIN:VCALENDAR
VERSION:2.0
PRODID:-//Mechanobiology Institute, National University of Singapore - ECPv6.15.12.2//NONSGML v1.0//EN
CALSCALE:GREGORIAN
METHOD:PUBLISH
X-ORIGINAL-URL:https://www.mbi.nus.edu.sg
X-WR-CALDESC:Events for Mechanobiology Institute, National University of Singapore
REFRESH-INTERVAL;VALUE=DURATION:PT1H
X-Robots-Tag:noindex
X-PUBLISHED-TTL:PT1H
BEGIN:VTIMEZONE
TZID:Asia/Singapore
BEGIN:STANDARD
TZOFFSETFROM:+0800
TZOFFSETTO:+0800
TZNAME:+08
DTSTART:20180101T000000
END:STANDARD
END:VTIMEZONE
BEGIN:VEVENT
DTSTART;TZID=Asia/Singapore:20190201T093000
DTEND;TZID=Asia/Singapore:20190201T103000
DTSTAMP:20260420T034508
CREATED:20190128T061056Z
LAST-MODIFIED:20190201T082822Z
UID:25781-1549013400-1549017000@www.mbi.nus.edu.sg
SUMMARY:MBIw: Neutrophil extracellular traps (NETs): The miniature “nuclear” bombs in inflammatory diseases by Siu Ling Christine Wong
DESCRIPTION:MBI Weekly Meeting Seminar\nTime: 9.30am-10.30am\nDate: Friday\, 1 February 2019\nVenue: Level 5 Seminar Room\, T-Lab \nNeutrophil extracellular traps (NETs): The miniature “nuclear” bombs in inflammatory diseases\nby Dr. Siu Ling (Christine) Wong\, Assistant Professor\, NTU Lee Kong Chian School of Medicine \n 
URL:https://www.mbi.nus.edu.sg/event/mbiw-neutrophil-extracellular-traps-nets-the-miniature-nuclear-bombs-in-inflammatory-diseases-by-siu-ling-christine-wong/
LOCATION:MBI Seminar Room Lvl 5\, T-Lab\, Level 5\, 5A Engineering Drive 1\, Mechanobiology Institute\, National University of Singapore\, 117411\, Singapore
CATEGORIES:MBI Seminar
END:VEVENT
BEGIN:VEVENT
DTSTART;TZID=Asia/Singapore:20190211T160000
DTEND;TZID=Asia/Singapore:20190211T170000
DTSTAMP:20260420T034508
CREATED:20190125T032653Z
LAST-MODIFIED:20190125T032721Z
UID:25692-1549900800-1549904400@www.mbi.nus.edu.sg
SUMMARY:The Tale Of Two And A Half Talins - Extending The Talin Code In Mechanotransduction by Ben Goult
DESCRIPTION:We are pleased to inform you on the seminar by Dr Ben Goult\, hosted by Prof Yan Jie “The Tale Of Two And A Half Talins – Extending The Talin Code In Mechanotransduction” on 11 Feb (Mon) @4pm at T-Lab Level 5 Seminar Rooms.
URL:https://www.mbi.nus.edu.sg/event/the-tale-of-two-and-a-half-talins-extending-the-talin-code-in-mechanotransduction-by-ben-goult/
LOCATION:MBI Seminar Room Lvl 5\, T-Lab\, Level 5\, 5A Engineering Drive 1\, Mechanobiology Institute\, National University of Singapore\, 117411\, Singapore
CATEGORIES:MBI Seminar
END:VEVENT
BEGIN:VEVENT
DTSTART;TZID=Asia/Singapore:20190212T093000
DTEND;TZID=Asia/Singapore:20190212T103000
DTSTAMP:20260420T034508
CREATED:20190207T060227Z
LAST-MODIFIED:20190212T084444Z
UID:25827-1549963800-1549967400@www.mbi.nus.edu.sg
SUMMARY:MBI SPSS: Rejuvenation of fibroblast by partial reprogramming and redifferentiation by Bibhas Roy
DESCRIPTION:MBI Student and Postdoc Seminar Series (SPSS)\nTime: 9.30am-10.30am\nDate: Tuesday\, 12 February 2019\nVenue: Level 5 Seminar Room\, T-Lab \nRejuvenation of fibroblast by partial reprogramming and redifferentiation\nby Dr. Bibhas Roy\, Research Fellow\, Shivashankar Group \n  \n* Please note this event is open to MBI researchers and invited guests only. Thank you *
URL:https://www.mbi.nus.edu.sg/event/25827/
LOCATION:MBI Seminar Room Lvl 5\, T-Lab\, Level 5\, 5A Engineering Drive 1\, Mechanobiology Institute\, National University of Singapore\, 117411\, Singapore
CATEGORIES:MBI Seminar,MBI Student & Postdoc Seminar
END:VEVENT
BEGIN:VEVENT
DTSTART;TZID=Asia/Singapore:20190213T110000
DTEND;TZID=Asia/Singapore:20190213T120000
DTSTAMP:20260420T034508
CREATED:20190125T032412Z
LAST-MODIFIED:20190125T032412Z
UID:25688-1550055600-1550059200@www.mbi.nus.edu.sg
SUMMARY:Amot proteins relay mechanical forces in normal development and disease by Lars Holmgren
DESCRIPTION:We are pleased to inform you on the seminar by Prof. Lars Holmgren\, hosted by Prof. Alexander Bershadsky “Amot proteins relay mechanical forces in normal development and disease” on 13 Feb (Wed) @11am at T-Lab Level seminar rooms.
URL:https://www.mbi.nus.edu.sg/event/amot-proteins-relay-mechanical-forces-in-normal-development-and-disease-by-lars-holmgren/
LOCATION:MBI Seminar Room Lvl 5\, T-Lab\, Level 5\, 5A Engineering Drive 1\, Mechanobiology Institute\, National University of Singapore\, 117411\, Singapore
CATEGORIES:MBI Seminar
END:VEVENT
BEGIN:VEVENT
DTSTART;TZID=Asia/Singapore:20190218T160000
DTEND;TZID=Asia/Singapore:20190218T170000
DTSTAMP:20260420T034508
CREATED:20190207T024611Z
LAST-MODIFIED:20190207T024611Z
UID:25819-1550505600-1550509200@www.mbi.nus.edu.sg
SUMMARY:Essential Role Of Smooth Muscle Rac1 In Airway Hyperresponsiveness And Remodelling Associated With Asthma by Florian Dissaler
DESCRIPTION:We are pleased to inform you on the seminar of Florian Dissaler (post doc candidate)\, hosted by A/Prof Virgile Viasnoff “Essential Role Of Smooth Muscle Rac1 In Airway Hyperresponsiveness And Remodelling Associated With Asthma”on 18 Feb (Monday) @4pm at T-Lab Level 5 Seminar Rooms.
URL:https://www.mbi.nus.edu.sg/event/essential-role-of-smooth-muscle-rac1-in-airway-hyperresponsiveness-and-remodelling-associated-with-asthma-by-florian-dissaler/
LOCATION:MBI Seminar Room Lvl 5\, T-Lab\, Level 5\, 5A Engineering Drive 1\, Mechanobiology Institute\, National University of Singapore\, 117411\, Singapore
CATEGORIES:MBI Seminar
END:VEVENT
BEGIN:VEVENT
DTSTART;TZID=Asia/Singapore:20190221T110000
DTEND;TZID=Asia/Singapore:20190221T120000
DTSTAMP:20260420T034508
CREATED:20190207T064030Z
LAST-MODIFIED:20190207T064030Z
UID:25830-1550746800-1550750400@www.mbi.nus.edu.sg
SUMMARY:A Spherical Pore 3D Tissue-Culture Platform For The Long-Time Study Of Mammalian Cell Behavior On Surfaces Of Various Degrees Of Curvature by Huang Cheng-Kuang
DESCRIPTION:We are pleased to inform you on the seminar of Huang Cheng-Kuang (post doc candidate)\, hosted by Prof Lim Chwee Teck “A Spherical Pore 3D Tissue-Culture Platform For The Long-Time Study Of Mammalian Cell Behavior On Surfaces Of Various Degrees Of Curvature” on 21 Feb (Thurs) @11am at T-Lab Level 5 Seminar Rooms.
URL:https://www.mbi.nus.edu.sg/event/a-spherical-pore-3d-tissue-culture-platform-for-the-long-time-study-of-mammalian-cell-behavior-on-surfaces-of-various-degrees-of-curvature-by-huang-cheng-kuang/
LOCATION:MBI Seminar Room Lvl 5\, T-Lab\, Level 5\, 5A Engineering Drive 1\, Mechanobiology Institute\, National University of Singapore\, 117411\, Singapore
CATEGORIES:MBI Seminar
END:VEVENT
BEGIN:VEVENT
DTSTART;TZID=Asia/Singapore:20190226T160000
DTEND;TZID=Asia/Singapore:20190226T170000
DTSTAMP:20260420T034508
CREATED:20190213T020731Z
LAST-MODIFIED:20190213T020731Z
UID:25888-1551196800-1551200400@www.mbi.nus.edu.sg
SUMMARY:Bioengineering Technologies In Regenerative Medicine: Cell Engineering\, Tracking\, And Mechanobiology by Liu Shiying
DESCRIPTION:We are pleased to inform you on the seminar of Liu Shiying (post doc candidate)\, hosted by A/Prof Tony Kanchanawong “Bioengineering Technologies In Regenerative Medicine: Cell Engineering\, Tracking\, And Mechanobiology” on 26 Feb (Tuesday) @4pm at T-Lab Level 5 Seminar Rooms.
URL:https://www.mbi.nus.edu.sg/event/bioengineering-technologies-in-regenerative-medicine-cell-engineering-tracking-and-mechanobiology-by-liu-shiying/
LOCATION:MBI Seminar Room Lvl 5\, T-Lab\, Level 5\, 5A Engineering Drive 1\, Mechanobiology Institute\, National University of Singapore\, 117411\, Singapore
CATEGORIES:MBI Seminar
END:VEVENT
END:VCALENDAR