BEGIN:VCALENDAR
VERSION:2.0
PRODID:-//Mechanobiology Institute, National University of Singapore - ECPv6.15.12.2//NONSGML v1.0//EN
CALSCALE:GREGORIAN
METHOD:PUBLISH
X-ORIGINAL-URL:https://www.mbi.nus.edu.sg
X-WR-CALDESC:Events for Mechanobiology Institute, National University of Singapore
REFRESH-INTERVAL;VALUE=DURATION:PT1H
X-Robots-Tag:noindex
X-PUBLISHED-TTL:PT1H
BEGIN:VTIMEZONE
TZID:Asia/Shanghai
BEGIN:STANDARD
TZOFFSETFROM:+0800
TZOFFSETTO:+0800
TZNAME:CST
DTSTART:20170101T000000
END:STANDARD
END:VTIMEZONE
BEGIN:VEVENT
DTSTART;TZID=Asia/Shanghai:20180222T110000
DTEND;TZID=Asia/Shanghai:20180222T120000
DTSTAMP:20260419T231226
CREATED:20180214T013556Z
LAST-MODIFIED:20180221T022512Z
UID:22035-1519297200-1519300800@www.mbi.nus.edu.sg
SUMMARY:How mycobacterial phenolic glycolipid subvert host macrophages: a general case and a special case by Prof Lalita Ramakrishnan
DESCRIPTION:We are extremely pleased to announce that Prof Lalita Ramakrishnan\, Professor of Immunology and Infectious Diseases\, University of Cambridge\, will be giving a talk on ‘How mycobacterial phenolic glycolipid subvert host macrophages: a general case and a special case’ on Thursday\, 22nd February\, at 11am\, Level 5 meeting rooms.
URL:https://www.mbi.nus.edu.sg/event/how-mycobacterial-phenolic-glycolipid-subvert-host-macrophages-a-general-case-and-a-special-case-by-prof-lalita-ramakrishnan/
LOCATION:MBI Seminar Room Lvl 5\, T-Lab\, Level 5\, 5A Engineering Drive 1\, Mechanobiology Institute\, National University of Singapore\, 117411\, Singapore
CATEGORIES:MBI Seminar
END:VEVENT
END:VCALENDAR