BEGIN:VCALENDAR
VERSION:2.0
PRODID:-//Mechanobiology Institute, National University of Singapore - ECPv6.15.12.2//NONSGML v1.0//EN
CALSCALE:GREGORIAN
METHOD:PUBLISH
X-ORIGINAL-URL:https://www.mbi.nus.edu.sg
X-WR-CALDESC:Events for Mechanobiology Institute, National University of Singapore
REFRESH-INTERVAL;VALUE=DURATION:PT1H
X-Robots-Tag:noindex
X-PUBLISHED-TTL:PT1H
BEGIN:VTIMEZONE
TZID:Asia/Shanghai
BEGIN:STANDARD
TZOFFSETFROM:+0800
TZOFFSETTO:+0800
TZNAME:CST
DTSTART:20160101T000000
END:STANDARD
END:VTIMEZONE
BEGIN:VEVENT
DTSTART;TZID=Asia/Shanghai:20171208T093000
DTEND;TZID=Asia/Shanghai:20171208T103000
DTSTAMP:20260420T071033
CREATED:20171204T070742Z
LAST-MODIFIED:20171204T070814Z
UID:21451-1512725400-1512729000@www.mbi.nus.edu.sg
SUMMARY:CD74\, invariant chain\, a modulator of endosomal maturation and potential cancer immunotherapy vaccine by Prof Oddmund Bakke\, University of Oslo
DESCRIPTION:MBI Weekly Meeting Seminar\nTime: 9.30am – 10.30am\nDate: Friday\, 8 December 2017\nVenue: Level 5 Seminar Room\, T-Lab \nCD74\, invariant chain\, a modulator of endosomal maturation and potential cancer immunotherapy vaccine\nby Prof. Oddmund Bakke from University of Oslo \n 
URL:https://www.mbi.nus.edu.sg/event/cd74-invariant-chain-a-modulator-of-endosomal-maturation-and-potential-cancer-immunotherapy-vaccine-by-prof-oddmund-bakke-university-of-oslo/
LOCATION:MBI Seminar Room Lvl 5\, T-Lab\, Level 5\, 5A Engineering Drive 1\, Mechanobiology Institute\, National University of Singapore\, 117411\, Singapore
CATEGORIES:MBI Seminar
END:VEVENT
BEGIN:VEVENT
DTSTART;TZID=Asia/Shanghai:20171208T160000
DTEND;TZID=Asia/Shanghai:20171208T170000
DTSTAMP:20260420T071033
CREATED:20171201T053758Z
LAST-MODIFIED:20171201T053758Z
UID:21388-1512748800-1512752400@www.mbi.nus.edu.sg
SUMMARY:Improving AFM reveals a multitude of hidden dynamics in the unfolding of a membrane protein by Prof Thomas Perkins
DESCRIPTION:I am pleased to inform you on the seminar Prof Thomas Perkins (hosted by Prof Yan Jie) “Improving AFM reveals a multitude of hidden dynamics in the unfolding of a membrane protein” on 8 Dec@4pm at T-Lab Level 5 Seminar Rooms. Thank you.
URL:https://www.mbi.nus.edu.sg/event/improving-afm-reveals-a-multitude-of-hidden-dynamics-in-the-unfolding-of-a-membrane-protein-by-prof-thomas-perkins/
LOCATION:MBI Seminar Room Lvl 5\, T-Lab\, Level 5\, 5A Engineering Drive 1\, Mechanobiology Institute\, National University of Singapore\, 117411\, Singapore
CATEGORIES:MBI Seminar
END:VEVENT
END:VCALENDAR