BEGIN:VCALENDAR
VERSION:2.0
PRODID:-//Mechanobiology Institute, National University of Singapore - ECPv6.15.12.2//NONSGML v1.0//EN
CALSCALE:GREGORIAN
METHOD:PUBLISH
X-WR-CALNAME:Mechanobiology Institute, National University of Singapore
X-ORIGINAL-URL:https://www.mbi.nus.edu.sg
X-WR-CALDESC:Events for Mechanobiology Institute, National University of Singapore
REFRESH-INTERVAL;VALUE=DURATION:PT1H
X-Robots-Tag:noindex
X-PUBLISHED-TTL:PT1H
BEGIN:VTIMEZONE
TZID:Asia/Shanghai
BEGIN:STANDARD
TZOFFSETFROM:+0800
TZOFFSETTO:+0800
TZNAME:CST
DTSTART:20160101T000000
END:STANDARD
END:VTIMEZONE
BEGIN:VEVENT
DTSTART;TZID=Asia/Shanghai:20170704T150000
DTEND;TZID=Asia/Shanghai:20170704T160000
DTSTAMP:20260425T191852
CREATED:20170627T015301Z
LAST-MODIFIED:20170627T015301Z
UID:19781-1499180400-1499184000@www.mbi.nus.edu.sg
SUMMARY:Reorganization of the intracellular architecture by mechanical forces at multiple scales by Dr Maxim Molodtsov
DESCRIPTION:
URL:https://www.mbi.nus.edu.sg/event/reorganization-of-the-intracellular-architecture-by-mechanical-forces-at-multiple-scales-by-dr-maxim-molodtsov/
LOCATION:MBI Seminar Room Lvl 5\, T-Lab\, Level 5\, 5A Engineering Drive 1\, Mechanobiology Institute\, National University of Singapore\, 117411\, Singapore
CATEGORIES:MBI Seminar
END:VEVENT
BEGIN:VEVENT
DTSTART;TZID=Asia/Shanghai:20170712T160000
DTEND;TZID=Asia/Shanghai:20170712T170000
DTSTAMP:20260425T191852
CREATED:20170704T012324Z
LAST-MODIFIED:20170704T012324Z
UID:19925-1499875200-1499878800@www.mbi.nus.edu.sg
SUMMARY:Understanding biological phenomena from the mechanics aspects by Prof Chen Bin
DESCRIPTION:
URL:https://www.mbi.nus.edu.sg/event/understanding-biological-phenomena-from-the-mechanics-aspects-by-prof-chen-bin/
LOCATION:MBI Seminar Room Lvl 5\, T-Lab\, Level 5\, 5A Engineering Drive 1\, Mechanobiology Institute\, National University of Singapore\, 117411\, Singapore
CATEGORIES:MBI Seminar
END:VEVENT
BEGIN:VEVENT
DTSTART;TZID=Asia/Shanghai:20170725T160000
DTEND;TZID=Asia/Shanghai:20170725T170000
DTSTAMP:20260425T191852
CREATED:20170712T054230Z
LAST-MODIFIED:20170712T054230Z
UID:19957-1500998400-1501002000@www.mbi.nus.edu.sg
SUMMARY:Modulating Stem Cell Differentiation Via Cell-Material Interaction by Dr Ajay Tijore
DESCRIPTION:
URL:https://www.mbi.nus.edu.sg/event/modulating-stem-cell-differentiation-via-cell-material-interaction-by-dr-ajay-tijore/
LOCATION:MBI Seminar Room Lvl 5\, T-Lab\, Level 5\, 5A Engineering Drive 1\, Mechanobiology Institute\, National University of Singapore\, 117411\, Singapore
CATEGORIES:MBI Seminar
END:VEVENT
BEGIN:VEVENT
DTSTART;TZID=Asia/Shanghai:20170725T160000
DTEND;TZID=Asia/Shanghai:20170725T170000
DTSTAMP:20260425T191852
CREATED:20170726T022140Z
LAST-MODIFIED:20170726T022140Z
UID:20015-1500998400-1501002000@www.mbi.nus.edu.sg
SUMMARY:Modulating Stem Cell Differentiation Via Cell-Material Interaction by Dr Ajay Tijore
DESCRIPTION:
URL:https://www.mbi.nus.edu.sg/event/modulating-stem-cell-differentiation-via-cell-material-interaction-by-dr-ajay-tijore-2/
LOCATION:MBI Seminar Room Lvl 5\, T-Lab\, Level 5\, 5A Engineering Drive 1\, Mechanobiology Institute\, National University of Singapore\, 117411\, Singapore
CATEGORIES:MBI Seminar
END:VEVENT
END:VCALENDAR