BEGIN:VCALENDAR
VERSION:2.0
PRODID:-//Mechanobiology Institute, National University of Singapore - ECPv6.15.12.2//NONSGML v1.0//EN
CALSCALE:GREGORIAN
METHOD:PUBLISH
X-ORIGINAL-URL:https://www.mbi.nus.edu.sg
X-WR-CALDESC:Events for Mechanobiology Institute, National University of Singapore
REFRESH-INTERVAL;VALUE=DURATION:PT1H
X-Robots-Tag:noindex
X-PUBLISHED-TTL:PT1H
BEGIN:VTIMEZONE
TZID:Asia/Shanghai
BEGIN:STANDARD
TZOFFSETFROM:+0800
TZOFFSETTO:+0800
TZNAME:CST
DTSTART:20160101T000000
END:STANDARD
END:VTIMEZONE
BEGIN:VEVENT
DTSTART;TZID=Asia/Shanghai:20170504T143000
DTEND;TZID=Asia/Shanghai:20170504T153000
DTSTAMP:20260426T022646
CREATED:20170502T065438Z
LAST-MODIFIED:20170502T065438Z
UID:18729-1493908200-1493911800@www.mbi.nus.edu.sg
SUMMARY:Nanoscopy over millimeter scale using photonic chip by Balpreet Ahluwalia
DESCRIPTION:
URL:https://www.mbi.nus.edu.sg/event/nanoscopy-over-millimeter-scale-using-photonic-chip-by-balpreet-ahluwalia/
LOCATION:MBI Seminar Room Lvl 5\, T-Lab\, Level 5\, 5A Engineering Drive 1\, Mechanobiology Institute\, National University of Singapore\, 117411\, Singapore
CATEGORIES:MBI Seminar
END:VEVENT
BEGIN:VEVENT
DTSTART;TZID=Asia/Shanghai:20170505T093000
DTEND;TZID=Asia/Shanghai:20170505T103000
DTSTAMP:20260426T022646
CREATED:20170427T075601Z
LAST-MODIFIED:20181005T073900Z
UID:18690-1493976600-1493980200@www.mbi.nus.edu.sg
SUMMARY:MBIw: YAP regulates actin dynamics through ARHGAP29 and promotes metastasis by A/Prof Marius Sudol
DESCRIPTION:Please be informed of MBI Weekly Meeting Seminar on Friday\, 5 May as follows: \nTime: 9:30am\nVenue: T-Lab Level 5 Seminar Room\nPresenter: A/Prof Marius Sudol\, Co-Principal Investigator\, MBI\nTalk Title: YAP regulates actin dynamics through ARHGAP29 and promotes metastasis
URL:https://www.mbi.nus.edu.sg/event/yap-regulates-actin-dynamics-through-arhgap29-and-promotes-metastasis-by-aprof-marius-sudol/
LOCATION:MBI Seminar Room Lvl 5\, T-Lab\, Level 5\, 5A Engineering Drive 1\, Mechanobiology Institute\, National University of Singapore\, 117411\, Singapore
CATEGORIES:MBI Seminar,MBI Weekly Seminar
END:VEVENT
BEGIN:VEVENT
DTSTART;TZID=Asia/Shanghai:20170515T100000
DTEND;TZID=Asia/Shanghai:20170515T110000
DTSTAMP:20260426T022646
CREATED:20170515T020326Z
LAST-MODIFIED:20170515T020326Z
UID:19024-1494842400-1494846000@www.mbi.nus.edu.sg
SUMMARY:Mechanical coupling coordinates the co-elongation of axial and paraxial tissues in avian embryos by Xiong Fengzhu
DESCRIPTION:
URL:https://www.mbi.nus.edu.sg/event/mechanical-coupling-coordinates-the-co-elongation-of-axial-and-paraxial-tissues-in-avian-embryos-by-xiong-fengzhu/
LOCATION:MBI Seminar Room Lvl 5\, T-Lab\, Level 5\, 5A Engineering Drive 1\, Mechanobiology Institute\, National University of Singapore\, 117411\, Singapore
CATEGORIES:MBI Seminar
END:VEVENT
BEGIN:VEVENT
DTSTART;TZID=Asia/Shanghai:20170516T160000
DTEND;TZID=Asia/Shanghai:20170516T170000
DTSTAMP:20260426T022646
CREATED:20170509T100030Z
LAST-MODIFIED:20170509T100030Z
UID:19003-1494950400-1494954000@www.mbi.nus.edu.sg
SUMMARY:What optics bring into single molecule detection? by Dr Wang Wei
DESCRIPTION:
URL:https://www.mbi.nus.edu.sg/event/what-optics-bring-into-single-molecule-detection-by-dr-wang-wei/
LOCATION:MBI Seminar Room Lvl 5\, T-Lab\, Level 5\, 5A Engineering Drive 1\, Mechanobiology Institute\, National University of Singapore\, 117411\, Singapore
CATEGORIES:MBI Seminar
END:VEVENT
BEGIN:VEVENT
DTSTART;TZID=Asia/Shanghai:20170517T160000
DTEND;TZID=Asia/Shanghai:20170517T170000
DTSTAMP:20260426T022646
CREATED:20170517T020225Z
LAST-MODIFIED:20170517T020225Z
UID:19104-1495036800-1495040400@www.mbi.nus.edu.sg
SUMMARY:Friction forces at tissue boundaries drive tissue morphogenesis during embryonic development by Dr Michael Smutny
DESCRIPTION:
URL:https://www.mbi.nus.edu.sg/event/friction-forces-at-tissue-boundaries-drive-tissue-morphogenesis-during-embryonic-development-by-dr-michael-smutny/
LOCATION:MBI Seminar Room Lvl 5\, T-Lab\, Level 5\, 5A Engineering Drive 1\, Mechanobiology Institute\, National University of Singapore\, 117411\, Singapore
CATEGORIES:MBI Seminar
END:VEVENT
BEGIN:VEVENT
DTSTART;TZID=Asia/Shanghai:20170518T103000
DTEND;TZID=Asia/Shanghai:20170518T113000
DTSTAMP:20260426T022646
CREATED:20170509T095629Z
LAST-MODIFIED:20170509T095629Z
UID:19000-1495103400-1495107000@www.mbi.nus.edu.sg
SUMMARY:Line-Scan Focal Modulation Microscopy for Zebrafish Imaging by Dr Shilpa Pant
DESCRIPTION:
URL:https://www.mbi.nus.edu.sg/event/line-scan-focal-modulation-microscopy-for-zebrafish-imaging-by-dr-shilpa-pant/
LOCATION:MBI Seminar Room Lvl 5\, T-Lab\, Level 5\, 5A Engineering Drive 1\, Mechanobiology Institute\, National University of Singapore\, 117411\, Singapore
CATEGORIES:MBI Seminar
END:VEVENT
BEGIN:VEVENT
DTSTART;TZID=Asia/Shanghai:20170524T110000
DTEND;TZID=Asia/Shanghai:20170524T120000
DTSTAMP:20260426T022646
CREATED:20170519T092456Z
LAST-MODIFIED:20170519T092456Z
UID:19208-1495623600-1495627200@www.mbi.nus.edu.sg
SUMMARY:Actin in axons: contributions to dynamics and mechanics by Pramod Pullarkat
DESCRIPTION:  \nBrief CV\nDr. Pullarkat did his PhD in Physics at the Raman Research Institute\, Bangalore\, India and switched to Biophysics area as a post-doc at Institut Curie\, Paris. \nHe has worked at the University of Bayreuth\, Germany for a few years before joining Raman Research Institute as a faculty member in 2008. \nResearch interest: Dynamics and mechanics of cytoskeleton and membrane
URL:https://www.mbi.nus.edu.sg/event/actin-in-axons-contributions-to-dynamics-and-mechanics-by-pramod-pullarkat/
LOCATION:MBI Seminar Room Lvl 5\, T-Lab\, Level 5\, 5A Engineering Drive 1\, Mechanobiology Institute\, National University of Singapore\, 117411\, Singapore
CATEGORIES:MBI Seminar
END:VEVENT
END:VCALENDAR