BEGIN:VCALENDAR
VERSION:2.0
PRODID:-//Mechanobiology Institute, National University of Singapore - ECPv6.15.12.2//NONSGML v1.0//EN
CALSCALE:GREGORIAN
METHOD:PUBLISH
X-ORIGINAL-URL:https://www.mbi.nus.edu.sg
X-WR-CALDESC:Events for Mechanobiology Institute, National University of Singapore
REFRESH-INTERVAL;VALUE=DURATION:PT1H
X-Robots-Tag:noindex
X-PUBLISHED-TTL:PT1H
BEGIN:VTIMEZONE
TZID:Asia/Shanghai
BEGIN:STANDARD
TZOFFSETFROM:+0800
TZOFFSETTO:+0800
TZNAME:CST
DTSTART:20160101T000000
END:STANDARD
END:VTIMEZONE
BEGIN:VEVENT
DTSTART;TZID=Asia/Shanghai:20170303T093000
DTEND;TZID=Asia/Shanghai:20170303T103000
DTSTAMP:20260425T232900
CREATED:20170224T035821Z
LAST-MODIFIED:20170224T035821Z
UID:17299-1488533400-1488537000@www.mbi.nus.edu.sg
SUMMARY:MBI Seminar: Sculpting the ring to make a cut: contractile ring structure and mechanism of cell division by Dr Mithilesh Mishra
DESCRIPTION:We are pleased to inform you on the Seminar by Dr Mithilesh Mishra from Tata Institute of Fundamental Research titled “Sculpting the ring to make a cut: contractile ring structure and mechanism of cell division”\, on Friday 3 March 2017 at 9:30am at T-Lab Level 5 Seminar Rooms. \nHost: A/Prof Ronen Zaidel-Bar \n \nBrief CV \nDr Mithilesh Mishra is currently an Assistant Professor at the Tata Institute of Fundamental Research.  His group is interested in understanding the mechanism underlying the process of cell division and its regulation. They use a combination of in vitro and in vivo approaches including genetic\, cellular\, molecular and mathematical approaches to understand the assembly and function of the cell division apparatus. \nWebsite:  http://www.tifr.res.in/~dbs/faculty/M_Mishra.html \nAll are welcome.
URL:https://www.mbi.nus.edu.sg/event/mbi-seminar-sculpting-the-ring-to-make-a-cut-contractile-ring-structure-and-mechanism-of-cell-division-by-dr-mithilesh-mishra/
LOCATION:National University of Singapore
CATEGORIES:MBI Seminar
END:VEVENT
BEGIN:VEVENT
DTSTART;TZID=Asia/Shanghai:20170306T160000
DTEND;TZID=Asia/Shanghai:20170306T170000
DTSTAMP:20260425T232900
CREATED:20170210T062319Z
LAST-MODIFIED:20170210T062604Z
UID:17005-1488816000-1488819600@www.mbi.nus.edu.sg
SUMMARY:MBI Seminar: Microfabricated Tissues for Medical Discovery and Therapy by Dr Zhang Boyang
DESCRIPTION:  \nAbout the Speaker\nBoyang Zhang is a postdoctoral fellow at University of Toronto and a co-founder of TARA Biosystems. At TARA\, Dr. Zhang is developing the manufacturing process of Biowire TM plates. Dr. Zhang obtained his B.Eng. in Chemical and Biomolecular Engineering from Georgia Institute of Technology in 2010\, and his Ph.D. in Chemical Engineering and Applied Chemistry from University of Toronto in 2016. \nIn 2016 Dr. Zhang was named MedTech’s Rising Star by Medical Device and Diagnostic Industry (MD+DI). In 2013\, University of Toronto named Dr. Zhang inventor of the year for his collaborative work on a skin bioprinter. Dr. Zhang’s research interests are tissue vascularization\, tissue assembly and organ-in-a-dish engineering. He utilizes microfabrication techniques in combination with biomaterials to build complex tissue models in vitro for drug discovery and regenerative medicine. His research on AngioChip\, published as a cover article in Nature Materials\, was featured in the Toronto Star and on The National on CBC in 2016. He has published over 20 research papers with H-index of 10 and has 3 patents pending.
URL:https://www.mbi.nus.edu.sg/event/mbi-seminar-microfabricated-tissues-for-medical-discovery-and-therapy-by-dr-zhang-boyang/
LOCATION:MBI Seminar Room Lvl 5\, T-Lab\, Level 5\, 5A Engineering Drive 1\, Mechanobiology Institute\, National University of Singapore\, 117411\, Singapore
CATEGORIES:MBI Seminar
END:VEVENT
BEGIN:VEVENT
DTSTART;TZID=Asia/Shanghai:20170307T160000
DTEND;TZID=Asia/Shanghai:20170307T170000
DTSTAMP:20260425T232900
CREATED:20170217T052141Z
LAST-MODIFIED:20170217T052141Z
UID:17163-1488902400-1488906000@www.mbi.nus.edu.sg
SUMMARY:Modulating scaffold architecture\, mechanics and growth factor presentation for cartilage tissue engineering by Aditya Arora
DESCRIPTION:
URL:https://www.mbi.nus.edu.sg/event/modulating-scaffold-architecture-mechanics-and-growth-factor-presentation-for-cartilage-tissue-engineering-by-aditya-arora/
LOCATION:MBI Seminar Room Lvl 5\, T-Lab\, Level 5\, 5A Engineering Drive 1\, Mechanobiology Institute\, National University of Singapore\, 117411\, Singapore
CATEGORIES:MBI Seminar
END:VEVENT
BEGIN:VEVENT
DTSTART;TZID=Asia/Shanghai:20170314T160000
DTEND;TZID=Asia/Shanghai:20170314T170000
DTSTAMP:20260425T232900
CREATED:20170303T033512Z
LAST-MODIFIED:20170303T033650Z
UID:17414-1489507200-1489510800@www.mbi.nus.edu.sg
SUMMARY:Cell-Matrix Interactions in Fibrosis and Cancer: Multiscale Mechano-Chemical Models by Prof Vivek Shenoy
DESCRIPTION:
URL:https://www.mbi.nus.edu.sg/event/cell-matrix-interactions-in-fibrosis-and-cancer-multiscale-mechano-chemical-models-by-prof-vivek-shenoy/
LOCATION:MBI Seminar Room Lvl 5\, T-Lab\, Level 5\, 5A Engineering Drive 1\, Mechanobiology Institute\, National University of Singapore\, 117411\, Singapore
CATEGORIES:MBI Seminar
END:VEVENT
BEGIN:VEVENT
DTSTART;TZID=Asia/Shanghai:20170317T093000
DTEND;TZID=Asia/Shanghai:20170317T103000
DTSTAMP:20260425T232900
CREATED:20170316T235118Z
LAST-MODIFIED:20170316T235118Z
UID:17568-1489743000-1489746600@www.mbi.nus.edu.sg
SUMMARY:Revealing how cells decide their fate\, shape and position in vivo by Dr Melanie D White
DESCRIPTION:
URL:https://www.mbi.nus.edu.sg/event/revealing-how-cells-decide-their-fate-shape-and-position-in-vivo-by-dr-melanie-d-white/
LOCATION:MBI Seminar Room Lvl 5\, T-Lab\, Level 5\, 5A Engineering Drive 1\, Mechanobiology Institute\, National University of Singapore\, 117411\, Singapore
CATEGORIES:MBI Seminar
END:VEVENT
BEGIN:VEVENT
DTSTART;TZID=Asia/Shanghai:20170324T093000
DTEND;TZID=Asia/Shanghai:20170324T103000
DTSTAMP:20260425T232900
CREATED:20170303T084941Z
LAST-MODIFIED:20170323T014704Z
UID:17454-1490347800-1490351400@www.mbi.nus.edu.sg
SUMMARY:MBI Seminar: In Vitro Vascularized Models for Metastatic Cancer by Prof Roger D Kamm
DESCRIPTION:
URL:https://www.mbi.nus.edu.sg/event/in-vitro-vascularized-models-for-metastatic-cancer-by-prof-roger-d-kamm/
LOCATION:MBI Seminar Room Lvl 5\, T-Lab\, Level 5\, 5A Engineering Drive 1\, Mechanobiology Institute\, National University of Singapore\, 117411\, Singapore
CATEGORIES:MBI Seminar
END:VEVENT
BEGIN:VEVENT
DTSTART;TZID=Asia/Shanghai:20170327T160000
DTEND;TZID=Asia/Shanghai:20170327T170000
DTSTAMP:20260425T232900
CREATED:20170323T065115Z
LAST-MODIFIED:20170323T065115Z
UID:17722-1490630400-1490634000@www.mbi.nus.edu.sg
SUMMARY:MBI Seminar: Drosophila as a model for muscle-tendon interaction by Prabhat Tiwari
DESCRIPTION:
URL:https://www.mbi.nus.edu.sg/event/mbi-seminar-drosophila-as-a-model-for-muscle-tendon-interaction-by-prabhat-tiwari/
LOCATION:MBI Seminar Room Lvl 5\, T-Lab\, Level 5\, 5A Engineering Drive 1\, Mechanobiology Institute\, National University of Singapore\, 117411\, Singapore
CATEGORIES:MBI Seminar
END:VEVENT
END:VCALENDAR