BEGIN:VCALENDAR
VERSION:2.0
PRODID:-//Mechanobiology Institute, National University of Singapore - ECPv6.15.12.2//NONSGML v1.0//EN
CALSCALE:GREGORIAN
METHOD:PUBLISH
X-WR-CALNAME:Mechanobiology Institute, National University of Singapore
X-ORIGINAL-URL:https://www.mbi.nus.edu.sg
X-WR-CALDESC:Events for Mechanobiology Institute, National University of Singapore
REFRESH-INTERVAL;VALUE=DURATION:PT1H
X-Robots-Tag:noindex
X-PUBLISHED-TTL:PT1H
BEGIN:VTIMEZONE
TZID:Asia/Shanghai
BEGIN:STANDARD
TZOFFSETFROM:+0800
TZOFFSETTO:+0800
TZNAME:CST
DTSTART:20170101T000000
END:STANDARD
END:VTIMEZONE
BEGIN:VEVENT
DTSTART;VALUE=DATE:20181110
DTEND;VALUE=DATE:20181112
DTSTAMP:20260420T043601
CREATED:20180424T035732Z
LAST-MODIFIED:20191212T034452Z
UID:22757-1541808000-1541980799@www.mbi.nus.edu.sg
SUMMARY:Mechanobiology International Graduate Student Congress 2018 (MBIGSC2018): Mechanomedicine
DESCRIPTION:  \nMBI Graduate students present the \nMechanobiology International Graduate Student Congress 2018\nWe are pleased to announce that the graduate students of MBI will be organizing the Mechanobiology International Graduate Student Congress (MBIGSC) 2018 themed “Mechanomedicine – MEDiating Forces”. This congress is in conjunction with MBI’s 10th anniversary conference in 2018\, Mechanobiology after 10 years: The promise of Mechanomedicine. \n  \nRegistration\nAbstracts are invited from current graduate students in Singapore and abroad working in Mechanobiology and related fields (click here). For participants interested in only attending please register here. \nRegistration fees: FREE\nAbstract deadline : 30th September\, 2018\nRegistration deadline : 28th October\, 2018 \nFind Out More \nOn behalf of the Organizing Committee\nZHANG Yue\nKapish GUPTA\nLIU Xuyao\nYOW Ying Ming\, Ivan\nSomsubhro MUKHERJEE\nFU Chaoyu\nLIU Chixuan\nDasvit SHETTY
URL:https://www.mbi.nus.edu.sg/event/mechanobiology-international-graduate-student-congress-2018-mbigsc2018-mechanomedicine/
LOCATION:MBI Seminar Room Lvl 5\, T-Lab\, Level 5\, 5A Engineering Drive 1\, Mechanobiology Institute\, National University of Singapore\, 117411\, Singapore
CATEGORIES:Conference,MBI Graduate Student Club
ATTACH;FMTTYPE=image/jpeg:https://www.mbi.nus.edu.sg/wp-content/uploads/2018/04/2018-11-MBI-grad-stu-congress-flyer-1-scaled.jpg
END:VEVENT
END:VCALENDAR