BEGIN:VCALENDAR
VERSION:2.0
PRODID:-//Mechanobiology Institute, National University of Singapore - ECPv6.15.12.2//NONSGML v1.0//EN
CALSCALE:GREGORIAN
METHOD:PUBLISH
X-WR-CALNAME:Mechanobiology Institute, National University of Singapore
X-ORIGINAL-URL:https://www.mbi.nus.edu.sg
X-WR-CALDESC:Events for Mechanobiology Institute, National University of Singapore
REFRESH-INTERVAL;VALUE=DURATION:PT1H
X-Robots-Tag:noindex
X-PUBLISHED-TTL:PT1H
BEGIN:VTIMEZONE
TZID:Asia/Shanghai
BEGIN:STANDARD
TZOFFSETFROM:+0800
TZOFFSETTO:+0800
TZNAME:CST
DTSTART:20160101T000000
END:STANDARD
END:VTIMEZONE
BEGIN:VEVENT
DTSTART;TZID=Asia/Shanghai:20171013T113000
DTEND;TZID=Asia/Shanghai:20171013T140000
DTSTAMP:20260421T234703
CREATED:20171013T031046Z
LAST-MODIFIED:20191212T035326Z
UID:20917-1507894200-1507903200@www.mbi.nus.edu.sg
SUMMARY:MBI Graduate Student Club: Mid-Autumn/Deepavali Cultural Share
DESCRIPTION:Dear MBIers\, \nGreetings from MBI Graduate Student Club! \nThis is a gentle reminder for today’s cultural sharing event on celebrating two traditional festivals – Mid-Autumn Festival and Deepavali. \nDate: October 13th (Friday)\nTime: 11:30am- 2pm\nVenue: T-Lab\, Level 10 lobby\nAll MBI students and staff are welcome \nBesides the hand-on session\, we will also prepare chilled mooncakes and traditional Indian snacks. Even if you are super busy\, please just drop by our booth and get some ready-to-eat sweets. \nPlease reserve the date and join us. Also\, please feel free to bring your families and friends\, as both festivals are about gathering families together with the MBI family.
URL:https://www.mbi.nus.edu.sg/event/mbi-graduate-student-club-mid-autumndeepavali-cultural-share/
LOCATION:MBI Level 10 Lobby\, 5A Engineering Drive 1\, Singapore\, 117411\, Singapore
CATEGORIES:MBI Graduate Student Club,Outreach Event
ATTACH;FMTTYPE=image/png:https://www.mbi.nus.edu.sg/wp-content/uploads/2017/10/2018-oct-deepavali.png
END:VEVENT
END:VCALENDAR