BEGIN:VCALENDAR
VERSION:2.0
PRODID:-//Mechanobiology Institute, National University of Singapore - ECPv6.15.12.2//NONSGML v1.0//EN
CALSCALE:GREGORIAN
METHOD:PUBLISH
X-ORIGINAL-URL:https://www.mbi.nus.edu.sg
X-WR-CALDESC:Events for Mechanobiology Institute, National University of Singapore
REFRESH-INTERVAL;VALUE=DURATION:PT1H
X-Robots-Tag:noindex
X-PUBLISHED-TTL:PT1H
BEGIN:VTIMEZONE
TZID:Asia/Singapore
BEGIN:STANDARD
TZOFFSETFROM:+0800
TZOFFSETTO:+0800
TZNAME:+08
DTSTART:20170101T000000
END:STANDARD
END:VTIMEZONE
BEGIN:VEVENT
DTSTART;TZID=Asia/Singapore:20180730T160000
DTEND;TZID=Asia/Singapore:20180730T170000
DTSTAMP:20260423T095118
CREATED:20180724T010122Z
LAST-MODIFIED:20180724T010122Z
UID:23671-1532966400-1532970000@www.mbi.nus.edu.sg
SUMMARY:MBI Cares: My journey in dealing with mental health issues: How and when to seek help by Dr Ranjit S Gulvady
DESCRIPTION:MBI Cares Event\n Time: 4.00pm\nDate: Monday\, 30 July 2018\nVenue: Level 5 Seminar Rooms\, T-Lab \nMy journey in dealing with mental health issues: how and when to seek help\nby Ranjit S Gulvady\, Research Assistant\, Yan Jie Group
URL:https://www.mbi.nus.edu.sg/event/mbi-cares-my-journey-in-dealing-with-mental-health-issues-how-and-when-to-seek-help-by-dr-ranjit-s-gulvady/
LOCATION:MBI Seminar Room Lvl 5\, T-Lab\, Level 5\, 5A Engineering Drive 1\, Mechanobiology Institute\, National University of Singapore\, 117411\, Singapore
CATEGORIES:MBI Cares
END:VEVENT
END:VCALENDAR