BEGIN:VCALENDAR
VERSION:2.0
PRODID:-//Mechanobiology Institute, National University of Singapore - ECPv6.15.12.2//NONSGML v1.0//EN
CALSCALE:GREGORIAN
METHOD:PUBLISH
X-ORIGINAL-URL:https://www.mbi.nus.edu.sg
X-WR-CALDESC:Events for Mechanobiology Institute, National University of Singapore
REFRESH-INTERVAL;VALUE=DURATION:PT1H
X-Robots-Tag:noindex
X-PUBLISHED-TTL:PT1H
BEGIN:VTIMEZONE
TZID:Asia/Shanghai
BEGIN:STANDARD
TZOFFSETFROM:+0800
TZOFFSETTO:+0800
TZNAME:CST
DTSTART:20160101T000000
END:STANDARD
END:VTIMEZONE
BEGIN:VEVENT
DTSTART;TZID=Asia/Shanghai:20170207T170000
DTEND;TZID=Asia/Shanghai:20170207T180000
DTSTAMP:20260424T024907
CREATED:20170125T014729Z
LAST-MODIFIED:20170207T014153Z
UID:16753-1486486800-1486490400@www.mbi.nus.edu.sg
SUMMARY:**CANCELLED** LKY Distinguished Visitors Programme: Professor Ada Yonath\, Next Generation Antibiotics
DESCRIPTION:
URL:https://www.mbi.nus.edu.sg/event/lky-distinguished-visitors-programme-professor-ada-yonath-next-generation-antibiotics/
CATEGORIES:LKY Distinguished Visitors Programme
END:VEVENT
END:VCALENDAR