BEGIN:VCALENDAR
VERSION:2.0
PRODID:-//Mechanobiology Institute, National University of Singapore - ECPv6.15.12.2//NONSGML v1.0//EN
CALSCALE:GREGORIAN
METHOD:PUBLISH
X-WR-CALNAME:Mechanobiology Institute, National University of Singapore
X-ORIGINAL-URL:https://www.mbi.nus.edu.sg
X-WR-CALDESC:Events for Mechanobiology Institute, National University of Singapore
REFRESH-INTERVAL;VALUE=DURATION:PT1H
X-Robots-Tag:noindex
X-PUBLISHED-TTL:PT1H
BEGIN:VTIMEZONE
TZID:Asia/Singapore
BEGIN:STANDARD
TZOFFSETFROM:+0800
TZOFFSETTO:+0800
TZNAME:+08
DTSTART:20200101T000000
END:STANDARD
END:VTIMEZONE
BEGIN:VEVENT
DTSTART;VALUE=DATE:20210721
DTEND;VALUE=DATE:20210724
DTSTAMP:20260421T234623
CREATED:20210504T082200Z
LAST-MODIFIED:20210514T110135Z
UID:31728-1626825600-1627084799@www.mbi.nus.edu.sg
SUMMARY:Materials\, Mimics\, and Microfluidics: Engineering Tools for Mechanobiology
DESCRIPTION:Materials\, Mimics\, and Microfluidics: Engineering Tools for Mechanobiology\nThis hybrid meeting (3M 2021) is aimed at Asia-Pacific scientists in the bioengineering and mechanobiology community. Hosted by the Mechanobiology Institute\, and the Department of Bioengineering\, NUS\, this meeting will focus on bioengineered tools used to investigate mechanobiology. There will be a core online meeting with talks and discussion\, supplemented by local ‘satellite’ meetings across the Asia-Pacific region. \nRegistration\nThe conference is open to academics\, post-doctoral fellows\, graduate students\, and undergraduate students interested in bioengineering and mechanobiology. There is no registration fee for the conference. Registration is now open. \nREGISTER NOW\n  \nIf you are interested in leading a 3M 2021 local satellite meeting\, please contact Andrew Holle (bieawh@nus.edu.sg)\, Thuan Beng Saw (sawtb88@gmail.com)\, or mbi3mconference21@gmail.com. \n  \n \nOrganisers\n• Andrew Holle\, MBI and NUS BME\n• Thuan Beng Saw\, MBI and NUS BME \n 
URL:https://www.mbi.nus.edu.sg/event/materials-mimics-and-microfluidics-engineering-tools-for-mechanobiology/
CATEGORIES:Hybrid Meeting
END:VEVENT
END:VCALENDAR