BEGIN:VCALENDAR
VERSION:2.0
PRODID:-//Mechanobiology Institute, National University of Singapore - ECPv6.15.12.2//NONSGML v1.0//EN
CALSCALE:GREGORIAN
METHOD:PUBLISH
X-ORIGINAL-URL:https://www.mbi.nus.edu.sg
X-WR-CALDESC:Events for Mechanobiology Institute, National University of Singapore
REFRESH-INTERVAL;VALUE=DURATION:PT1H
X-Robots-Tag:noindex
X-PUBLISHED-TTL:PT1H
BEGIN:VTIMEZONE
TZID:Asia/Shanghai
BEGIN:STANDARD
TZOFFSETFROM:+0800
TZOFFSETTO:+0800
TZNAME:CST
DTSTART:20160101T000000
END:STANDARD
END:VTIMEZONE
BEGIN:VEVENT
DTSTART;TZID=Asia/Shanghai:20171121T100000
DTEND;TZID=Asia/Shanghai:20171121T110000
DTSTAMP:20260420T114744
CREATED:20171031T070017Z
LAST-MODIFIED:20171031T070017Z
UID:21006-1511258400-1511262000@www.mbi.nus.edu.sg
SUMMARY:CBIS Seminar: A paradigm shift in the identification\, characterization and sorting of cells by Dr Karin Schütze\, CellTool GmbH
DESCRIPTION:
URL:https://www.mbi.nus.edu.sg/event/cbis-seminar-a-paradigm-shift-in-the-identification-characterization-and-sorting-of-cells-by-dr-karin-schutze-celltool-gmbh/
LOCATION:CBIS Seminar Room\, S1A-02-17\, Singapore\, 117557\, Singapore
CATEGORIES:CBIS
END:VEVENT
END:VCALENDAR