BEGIN:VCALENDAR
VERSION:2.0
PRODID:-//Mechanobiology Institute, National University of Singapore - ECPv6.15.12.2//NONSGML v1.0//EN
CALSCALE:GREGORIAN
METHOD:PUBLISH
X-ORIGINAL-URL:https://www.mbi.nus.edu.sg
X-WR-CALDESC:Events for Mechanobiology Institute, National University of Singapore
REFRESH-INTERVAL;VALUE=DURATION:PT1H
X-Robots-Tag:noindex
X-PUBLISHED-TTL:PT1H
BEGIN:VTIMEZONE
TZID:Asia/Shanghai
BEGIN:STANDARD
TZOFFSETFROM:+0800
TZOFFSETTO:+0800
TZNAME:CST
DTSTART:20160101T000000
END:STANDARD
END:VTIMEZONE
BEGIN:VEVENT
DTSTART;TZID=Asia/Shanghai:20170412T110000
DTEND;TZID=Asia/Shanghai:20170412T120000
DTSTAMP:20260420T114742
CREATED:20170301T060759Z
LAST-MODIFIED:20170301T060759Z
UID:17381-1491994800-1491998400@www.mbi.nus.edu.sg
SUMMARY:L1CAM adhesion and signaling in C. elegans nervous system development and function by  A/Prof Sudipto Roy
DESCRIPTION:
URL:https://www.mbi.nus.edu.sg/event/l1cam-adhesion-and-signaling-in-c-elegans-nervous-system-development-and-function-by-aprof-sudipto-roy/
CATEGORIES:A*STAR Seminar
END:VEVENT
END:VCALENDAR