BEGIN:VCALENDAR
VERSION:2.0
PRODID:-//Mechanobiology Institute, National University of Singapore - ECPv6.15.12.2//NONSGML v1.0//EN
CALSCALE:GREGORIAN
METHOD:PUBLISH
X-ORIGINAL-URL:https://www.mbi.nus.edu.sg
X-WR-CALDESC:Events for Mechanobiology Institute, National University of Singapore
REFRESH-INTERVAL;VALUE=DURATION:PT1H
X-Robots-Tag:noindex
X-PUBLISHED-TTL:PT1H
BEGIN:VTIMEZONE
TZID:Asia/Shanghai
BEGIN:STANDARD
TZOFFSETFROM:+0800
TZOFFSETTO:+0800
TZNAME:CST
DTSTART:20160101T000000
END:STANDARD
END:VTIMEZONE
BEGIN:VEVENT
DTSTART;TZID=Asia/Shanghai:20170320T110000
DTEND;TZID=Asia/Shanghai:20170320T120000
DTSTAMP:20260420T175521
CREATED:20170308T100519Z
LAST-MODIFIED:20170308T100519Z
UID:17546-1490007600-1490011200@www.mbi.nus.edu.sg
SUMMARY:A*STAR IMB: Rethinking Skin and Muscle Function by Dr Jens Marc Titze
DESCRIPTION:
URL:https://www.mbi.nus.edu.sg/event/astar-imb-rethinking-skin-and-muscle-function-by-dr-jens-marc-titze/
CATEGORIES:A*STAR Seminar
END:VEVENT
BEGIN:VEVENT
DTSTART;TZID=Asia/Shanghai:20170321T110000
DTEND;TZID=Asia/Shanghai:20170321T120000
DTSTAMP:20260420T175521
CREATED:20170301T061312Z
LAST-MODIFIED:20170301T061312Z
UID:17384-1490094000-1490097600@www.mbi.nus.edu.sg
SUMMARY:A*STAR Seminar: Mechanoprotein YAP in the Control of Epidermal Homeostasis and Skin Disease by  Dr Annemiek Beverdam
DESCRIPTION:
URL:https://www.mbi.nus.edu.sg/event/astar-seminar-mechanoprotein-yap-in-the-control-of-epidermal-homeostasis-and-skin-disease-by-dr-annemiek-beverdam/
CATEGORIES:A*STAR Seminar
END:VEVENT
END:VCALENDAR