BEGIN:VCALENDAR
VERSION:2.0
PRODID:-//Mechanobiology Institute, National University of Singapore - ECPv6.15.12.2//NONSGML v1.0//EN
CALSCALE:GREGORIAN
METHOD:PUBLISH
X-ORIGINAL-URL:https://www.mbi.nus.edu.sg
X-WR-CALDESC:Events for Mechanobiology Institute, National University of Singapore
REFRESH-INTERVAL;VALUE=DURATION:PT1H
X-Robots-Tag:noindex
X-PUBLISHED-TTL:PT1H
BEGIN:VTIMEZONE
TZID:Asia/Shanghai
BEGIN:STANDARD
TZOFFSETFROM:+0800
TZOFFSETTO:+0800
TZNAME:CST
DTSTART:20150101T000000
END:STANDARD
END:VTIMEZONE
BEGIN:VEVENT
DTSTART;TZID=Asia/Shanghai:20161216T110000
DTEND;TZID=Asia/Shanghai:20161216T120000
DTSTAMP:20260423T202546
CREATED:20161214T014531Z
LAST-MODIFIED:20161214T014531Z
UID:16433-1481886000-1481889600@www.mbi.nus.edu.sg
SUMMARY:IMCB Seminar: How do regulatory T cells adapt to the adipose tissue environment? by Ajith Vasanthakum
DESCRIPTION:
URL:https://www.mbi.nus.edu.sg/event/imcb-seminar-how-do-regulatory-t-cells-adapt-to-the-adipose-tissue-environment-by-ajith-vasanthakum/
CATEGORIES:A*STAR Seminar
END:VEVENT
END:VCALENDAR