BEGIN:VCALENDAR
VERSION:2.0
PRODID:-//Mechanobiology Institute, National University of Singapore - ECPv6.15.12.2//NONSGML v1.0//EN
CALSCALE:GREGORIAN
METHOD:PUBLISH
X-WR-CALNAME:Mechanobiology Institute, National University of Singapore
X-ORIGINAL-URL:https://www.mbi.nus.edu.sg
X-WR-CALDESC:Events for Mechanobiology Institute, National University of Singapore
REFRESH-INTERVAL;VALUE=DURATION:PT1H
X-Robots-Tag:noindex
X-PUBLISHED-TTL:PT1H
BEGIN:VTIMEZONE
TZID:UTC
BEGIN:STANDARD
TZOFFSETFROM:+0000
TZOFFSETTO:+0000
TZNAME:UTC
DTSTART:20150101T000000
END:STANDARD
END:VTIMEZONE
BEGIN:VEVENT
DTSTART;TZID=UTC:20161124T140000
DTEND;TZID=UTC:20161124T150000
DTSTAMP:20260424T071705
CREATED:20161114T191932Z
LAST-MODIFIED:20161114T192616Z
UID:15933-1479996000-1479999600@www.mbi.nus.edu.sg
SUMMARY:A*STAR Seminar: NMR Hyperpolarized Contrast Agents for Molecular Imaging by Dr Eduard Chekmenev
DESCRIPTION:Please find attached a seminar to be presented by Dr Eduard Chekmenev. \nTitle of Seminar :  NMR Hyperpolarized Contrast Agents for Molecular Imaging \nHost :  Dr Edward Robins\nDate :  25 November\, Friday\nTime : 11.00am – 12.00noon \nVenue : SBIC Seminar Room\, 11 Biopolis Way\, Helios Building\, Level 2 (Please enter via Level 1) \nFull announcement here.
URL:https://www.mbi.nus.edu.sg/event/astar-seminar-nmr-hyperpolarized-contrast-agents-for-molecular-imaging-by-dr-eduard-chekmenev/
LOCATION:A*STAR IMCB Seminar Room\, Level 3\, IMCB Seminar Room 3-46\, Proteos\, Biopolis\, 138673\, Singapore
CATEGORIES:A*STAR Seminar
END:VEVENT
END:VCALENDAR