BEGIN:VCALENDAR
VERSION:2.0
PRODID:-//Mechanobiology Institute, National University of Singapore - ECPv6.15.12.2//NONSGML v1.0//EN
CALSCALE:GREGORIAN
METHOD:PUBLISH
X-ORIGINAL-URL:https://www.mbi.nus.edu.sg
X-WR-CALDESC:Events for Mechanobiology Institute, National University of Singapore
REFRESH-INTERVAL;VALUE=DURATION:PT1H
X-Robots-Tag:noindex
X-PUBLISHED-TTL:PT1H
BEGIN:VTIMEZONE
TZID:Asia/Shanghai
BEGIN:STANDARD
TZOFFSETFROM:+0800
TZOFFSETTO:+0800
TZNAME:CST
DTSTART:20150101T000000
END:STANDARD
END:VTIMEZONE
BEGIN:VEVENT
DTSTART;TZID=Asia/Shanghai:20160112T090000
DTEND;TZID=Asia/Shanghai:20160112T160000
DTSTAMP:20260426T065450
CREATED:20161207T020231Z
LAST-MODIFIED:20161207T020231Z
UID:16418-1452589200-1452614400@www.mbi.nus.edu.sg
SUMMARY:Special Institute of Bioengineering and Nanotechnology Symposium
DESCRIPTION:
URL:https://www.mbi.nus.edu.sg/event/special-institute-of-bioengineering-and-nanotechnology-symposium/
CATEGORIES:A*STAR Seminar
END:VEVENT
END:VCALENDAR